BEGIN:VCALENDAR
VERSION:2.0
PRODID:-//Sainte-Brigitte-de-Laval - ECPv6.15.20//NONSGML v1.0//EN
CALSCALE:GREGORIAN
METHOD:PUBLISH
X-ORIGINAL-URL:https://sbdl.net
X-WR-CALDESC:Événements pour Sainte-Brigitte-de-Laval
REFRESH-INTERVAL;VALUE=DURATION:PT1H
X-Robots-Tag:noindex
X-PUBLISHED-TTL:PT1H
BEGIN:VTIMEZONE
TZID:America/Toronto
BEGIN:DAYLIGHT
TZOFFSETFROM:-0500
TZOFFSETTO:-0400
TZNAME:EDT
DTSTART:20230312T070000
END:DAYLIGHT
BEGIN:STANDARD
TZOFFSETFROM:-0400
TZOFFSETTO:-0500
TZNAME:EST
DTSTART:20231105T060000
END:STANDARD
BEGIN:DAYLIGHT
TZOFFSETFROM:-0500
TZOFFSETTO:-0400
TZNAME:EDT
DTSTART:20240310T070000
END:DAYLIGHT
BEGIN:STANDARD
TZOFFSETFROM:-0400
TZOFFSETTO:-0500
TZNAME:EST
DTSTART:20241103T060000
END:STANDARD
BEGIN:DAYLIGHT
TZOFFSETFROM:-0500
TZOFFSETTO:-0400
TZNAME:EDT
DTSTART:20250309T070000
END:DAYLIGHT
BEGIN:STANDARD
TZOFFSETFROM:-0400
TZOFFSETTO:-0500
TZNAME:EST
DTSTART:20251102T060000
END:STANDARD
END:VTIMEZONE
BEGIN:VEVENT
DTSTART;VALUE=DATE:20240129
DTEND;VALUE=DATE:20240224
DTSTAMP:20260425T103029
CREATED:20240129T203701Z
LAST-MODIFIED:20240129T203851Z
UID:15220-1706486400-1708732799@sbdl.net
SUMMARY:PÉRIODE D'INSCRIPTION - 29 janvier au 23 février 2024 | Activités durant la relâche scolaire (4 au 8 mars 2024)
DESCRIPTION:À compter de 2024\, la gestion du camp d’été et de la semaine de relâche sera confiée à l’organisme expérimenté « Le Saiso » (anciennement « Le Saisonnier »). Cette collaboration permettra à notre service des loisirs de se concentrer davantage sur l’amélioration de notre offre en matière de programmation sportive et culturelle\, la bibliothèque municipale ainsi que sur l’entretien de nos parcs et sentiers pédestres. \n\nSemaine de la relâche :\n\nInscription gérée par « Le Saiso » : du 29 janvier au 23 février 2024\nAu lien suivant : https://www.qidigo.com/u/Le-Saisonnier/activities/session\nDate des activités de la Relâche : du 4 au 8 mars 2024\nClientèle éligible : enfants de 5 à 12 ans (en date du 30 septembre 2023)\nLieu des activités : Sur le territoire de la municipalité de Lac-Beauport\n\n\n\nLire le communiqué officiel entourant la gestion du camp d’été et de la semaine de relâche par « Le Saiso »
URL:https://sbdl.net/evenement/periode-dinscription-activites-durant-la-relache-scolaire-4-au-8-mars-2024/
CATEGORIES:Programmations saisonnières sports et loisirs
END:VEVENT
BEGIN:VEVENT
DTSTART;TZID=America/Toronto:20240130T183000
DTEND;TZID=America/Toronto:20240130T193000
DTSTAMP:20260425T103029
CREATED:20240125T223333Z
LAST-MODIFIED:20240131T032905Z
UID:15192-1706639400-1706643000@sbdl.net
SUMMARY:*** REPORTÉE AU 20 FÉVRIER *** BIBLIO ANIMÉE - CONFÉRENCE | Comment favoriser un équilibre personnel\, conjugal et familial ? : Pistes de réflexion et d’action
DESCRIPTION:La vie familiale peut être une aventure enrichissante et stimulante\, mais elle peut aussi représenter un défi teinté de responsabilités et déséquilibres. Des irritants\, conflits et/ou difficultés peuvent émerger et s’accumuler au fil du temps : \n\nConférencière : Mia Lynn Cossette\, psychoéducatrice\nClientèle adulte (Parents ou futurs parents)\nMardi 20 février\, 18 h 30 à 19 h 30\nBâtiment municipal\, au Parc des Saphirs\, salles 3-4\nGratuit\nInscription en ligne via la plateforme Voilà! à partir du vendredi 19 janvier 2024 (demain)\nDate limite d’inscription : 15 février 2024
URL:https://sbdl.net/evenement/biblio-animee-conference-comment-favoriser-un-equilibre-personnel-conjugal-et-familial-pistes-de-reflexion-et-daction/
CATEGORIES:Programmations saisonnières sports et loisirs
END:VEVENT
END:VCALENDAR