BEGIN:VCALENDAR
VERSION:2.0
PRODID:-//Sainte-Brigitte-de-Laval - ECPv6.15.20//NONSGML v1.0//EN
CALSCALE:GREGORIAN
METHOD:PUBLISH
X-WR-CALNAME:Sainte-Brigitte-de-Laval
X-ORIGINAL-URL:https://sbdl.net
X-WR-CALDESC:Événements pour Sainte-Brigitte-de-Laval
REFRESH-INTERVAL;VALUE=DURATION:PT1H
X-Robots-Tag:noindex
X-PUBLISHED-TTL:PT1H
BEGIN:VTIMEZONE
TZID:America/Toronto
BEGIN:DAYLIGHT
TZOFFSETFROM:-0500
TZOFFSETTO:-0400
TZNAME:EDT
DTSTART:20230312T070000
END:DAYLIGHT
BEGIN:STANDARD
TZOFFSETFROM:-0400
TZOFFSETTO:-0500
TZNAME:EST
DTSTART:20231105T060000
END:STANDARD
BEGIN:DAYLIGHT
TZOFFSETFROM:-0500
TZOFFSETTO:-0400
TZNAME:EDT
DTSTART:20240310T070000
END:DAYLIGHT
BEGIN:STANDARD
TZOFFSETFROM:-0400
TZOFFSETTO:-0500
TZNAME:EST
DTSTART:20241103T060000
END:STANDARD
BEGIN:DAYLIGHT
TZOFFSETFROM:-0500
TZOFFSETTO:-0400
TZNAME:EDT
DTSTART:20250309T070000
END:DAYLIGHT
BEGIN:STANDARD
TZOFFSETFROM:-0400
TZOFFSETTO:-0500
TZNAME:EST
DTSTART:20251102T060000
END:STANDARD
END:VTIMEZONE
BEGIN:VEVENT
DTSTART;VALUE=DATE:20240312
DTEND;VALUE=DATE:20240403
DTSTAMP:20260425T132217
CREATED:20240229T202143Z
LAST-MODIFIED:20240229T202538Z
UID:15544-1710201600-1712102399@sbdl.net
SUMMARY:SPORTS ET LOISIRS « PRINTEMPS 2024 » | Période d'inscription : 12 mars au 2 avril 2024
DESCRIPTION:Nous sommes heureux de vous annoncer que la Programmation sports et loisirs « Printemps 2024 » est en ligne pour consultation et que le début des inscriptions est prévu pour le mardi 12 mars\, dès 8 h 00 : \n\nPériode d’inscription : du 12 mars au 2 avril 2024\nDébut des activités : semaine du 14 avril 2024\nConsulter la programmation sports et loisirs printemps 2024\n\n  \n!! NOUVEAUTÉ 2024 !!\nAfin de faciliter la participation des parents\, un service de garde sera offert pendant le déroulement de plusieurs cours. Nos animateurs de camp seront ainsi au rendez-vous pour divertir vos enfants avec des activités adaptées à leur âge. \n  \nD’ici-là\, si ce n’est pas déjà fait\, nous vous invitons à prendre un peu d’avance et à déjà configurer votre compte « Voilà! » afin d’être fin prêt(e) à procéder à vos inscriptions : Configurer mon compte « Voilà! »
URL:https://sbdl.net/evenement/sports-et-loisirs-printemps-2024-periode-dinscription-12-mars-au-2-avril-2024/
CATEGORIES:Programmations saisonnières sports et loisirs
END:VEVENT
BEGIN:VEVENT
DTSTART;VALUE=DATE:20240319
DTEND;VALUE=DATE:20240529
DTSTAMP:20260425T132217
CREATED:20240129T204215Z
LAST-MODIFIED:20240312T203613Z
UID:15223-1710806400-1716940799@sbdl.net
SUMMARY:PÉRIODE D'INSCRIPTION - 19 mars (dès 8h) au 28 mai 2024 | Camp de jour d'été "Les Z'Actifs"
DESCRIPTION:À compter de 2024\, la gestion du camp d’été sera confiée à l’organisme expérimenté « Le Saiso ». \nConsulter la programmation du Camp d’été « Les Z’Actifs » pour l’été 2024 en suivant ce lien : https://sbdl.net/programmation-et-inscriptions/camp-dete/ \n 
URL:https://sbdl.net/evenement/periode-dinscription-18-mars-au-28-mai-2024-camp-de-jour-dete-les-zactifs/
CATEGORIES:Programmations saisonnières sports et loisirs
END:VEVENT
BEGIN:VEVENT
DTSTART;TZID=America/Toronto:20240430T183000
DTEND;TZID=America/Toronto:20240430T193000
DTSTAMP:20260425T132217
CREATED:20240125T223726Z
LAST-MODIFIED:20240125T223726Z
UID:15196-1714501800-1714505400@sbdl.net
SUMMARY:BIBLIO ANIMÉE - CONFÉRENCE | Comment favoriser un équilibre personnel\, conjugal et familial ? : Pistes de réflexion et d’action
DESCRIPTION:La vie familiale peut être une aventure enrichissante et stimulante\, mais elle peut aussi représenter un défi teinté de responsabilités et déséquilibres. Des irritants\, conflits et/ou difficultés peuvent émerger et s’accumuler au fil du temps : \n\nConférencière : Mia Lynn Cossette\, psychoéducatrice\nClientèle adulte (Parents ou futurs parents)\nMardi 30 janvier ET le 30 avril\, 18 h 30 à 19 h 30\nBâtiment municipal\, au Parc des Saphirs\, salles 3-4\nGratuit\nInscription en ligne via la plateforme Voilà! à partir du vendredi 19 janvier 2024 (demain)\nDate limite d’inscription : maximum 2 jours avant le jour de l’activité
URL:https://sbdl.net/evenement/biblio-animee-conference-comment-favoriser-un-equilibre-personnel-conjugal-et-familial-pistes-de-reflexion-et-daction-2/
CATEGORIES:Programmations saisonnières sports et loisirs
END:VEVENT
END:VCALENDAR