BEGIN:VCALENDAR
VERSION:2.0
PRODID:-//Sainte-Brigitte-de-Laval - ECPv6.15.18//NONSGML v1.0//EN
CALSCALE:GREGORIAN
METHOD:PUBLISH
X-ORIGINAL-URL:https://sbdl.net
X-WR-CALDESC:Événements pour Sainte-Brigitte-de-Laval
REFRESH-INTERVAL;VALUE=DURATION:PT1H
X-Robots-Tag:noindex
X-PUBLISHED-TTL:PT1H
BEGIN:VTIMEZONE
TZID:America/Toronto
BEGIN:DAYLIGHT
TZOFFSETFROM:-0500
TZOFFSETTO:-0400
TZNAME:EDT
DTSTART:20250309T070000
END:DAYLIGHT
BEGIN:STANDARD
TZOFFSETFROM:-0400
TZOFFSETTO:-0500
TZNAME:EST
DTSTART:20251102T060000
END:STANDARD
BEGIN:DAYLIGHT
TZOFFSETFROM:-0500
TZOFFSETTO:-0400
TZNAME:EDT
DTSTART:20260308T070000
END:DAYLIGHT
BEGIN:STANDARD
TZOFFSETFROM:-0400
TZOFFSETTO:-0500
TZNAME:EST
DTSTART:20261101T060000
END:STANDARD
BEGIN:DAYLIGHT
TZOFFSETFROM:-0500
TZOFFSETTO:-0400
TZNAME:EDT
DTSTART:20270314T070000
END:DAYLIGHT
BEGIN:STANDARD
TZOFFSETFROM:-0400
TZOFFSETTO:-0500
TZNAME:EST
DTSTART:20271107T060000
END:STANDARD
END:VTIMEZONE
BEGIN:VEVENT
DTSTART;TZID=America/Toronto:20260324T090000
DTEND;TZID=America/Toronto:20260406T235900
DTSTAMP:20260415T183030
CREATED:20260320T162807Z
LAST-MODIFIED:20260320T164417Z
UID:19306-1774342800-1775519940@sbdl.net
SUMMARY:SPORTS ET LOISIRS « PRINTEMPS 2026 » | Période d'inscription : mardi 24 mars (9 h 00) au lundi 6 avril (23 h 59)
DESCRIPTION:Pour consulter la programmation : https://sbdl.net/programmation-et-inscriptions/\nPériode d’inscription : du mardi 24 mars (9 h 00) au lundi 6 avril (23 h 59)\nDébut des activités : semaine du 18 avril 2026\n\nNouveauté\nPour faciliter la consultation et simplifier le processus d’inscription\, une nouveauté importante a été mise en place cette saison : la programmation complète des activités de sports et loisirs du printemps 2026 est désormais intégrée directement sur la page officielle dédiée aux programmations saisonnières de notre site Web. Les citoyens peuvent ainsi retrouver\, en un seul endroit\, toute l’information utile ainsi que les liens d’inscription\, ce qui permet un accès plus rapide\, convivial et efficace : https://sbdl.net/programmations-saisonnieres-et-inscriptions/
URL:https://sbdl.net/evenement/sports-et-loisirs-printemps-2026-periode-dinscription-24-mars-au-6-avril/
CATEGORIES:Programmations saisonnières sports et loisirs
ATTACH;FMTTYPE=image/png:https://sbdl.net/wp-content/uploads/2026/03/Badminton.png
END:VEVENT
END:VCALENDAR