BEGIN:VCALENDAR
VERSION:2.0
PRODID:-//Sainte-Brigitte-de-Laval - ECPv6.15.20//NONSGML v1.0//EN
CALSCALE:GREGORIAN
METHOD:PUBLISH
X-ORIGINAL-URL:https://sbdl.net
X-WR-CALDESC:Événements pour Sainte-Brigitte-de-Laval
REFRESH-INTERVAL;VALUE=DURATION:PT1H
X-Robots-Tag:noindex
X-PUBLISHED-TTL:PT1H
BEGIN:VTIMEZONE
TZID:America/Toronto
BEGIN:DAYLIGHT
TZOFFSETFROM:-0500
TZOFFSETTO:-0400
TZNAME:EDT
DTSTART:20240310T070000
END:DAYLIGHT
BEGIN:STANDARD
TZOFFSETFROM:-0400
TZOFFSETTO:-0500
TZNAME:EST
DTSTART:20241103T060000
END:STANDARD
BEGIN:DAYLIGHT
TZOFFSETFROM:-0500
TZOFFSETTO:-0400
TZNAME:EDT
DTSTART:20250309T070000
END:DAYLIGHT
BEGIN:STANDARD
TZOFFSETFROM:-0400
TZOFFSETTO:-0500
TZNAME:EST
DTSTART:20251102T060000
END:STANDARD
BEGIN:DAYLIGHT
TZOFFSETFROM:-0500
TZOFFSETTO:-0400
TZNAME:EDT
DTSTART:20260308T070000
END:DAYLIGHT
BEGIN:STANDARD
TZOFFSETFROM:-0400
TZOFFSETTO:-0500
TZNAME:EST
DTSTART:20261101T060000
END:STANDARD
END:VTIMEZONE
BEGIN:VEVENT
DTSTART;TZID=America/Toronto:20250114T190000
DTEND;TZID=America/Toronto:20250114T203000
DTSTAMP:20260424T222013
CREATED:20241218T163427Z
LAST-MODIFIED:20250113T182741Z
UID:18678-1736881200-1736886600@sbdl.net
SUMMARY:SÉANCE D’INFORMATION PUBLIQUE – 14 janvier 2025\, 19 h | Présentation de la révision réglementaire d'urbanisme
DESCRIPTION:Le Conseil municipal et l’administration invitent les citoyens à une séance publique d’information au cours de laquelle seront exposés les principaux changements proposés entre les 1ers et les 2nds projets de règlements d’urbanisme révisés. Cette séance sera l’occasion de mieux comprendre les ajustements règlementaires proposés\, ainsi que l’échéancier qui s’y rattache.   \nDate : Le mardi 14 janvier 2025 \nHeures : 19 h 00 à 20 h 30 \nModes participatifs : \n\nPrésentiel : Dans la salle des miroirs du bâtiment du parc des Saphirs\, situé au 175\, rue Kildare\nWebdiffusion : En direct et en différé sur la chaîne Youtube de la Ville\n\nButs visés\nLes personnes responsables de l’assemblée rappelleront le contexte dans lequel cette révision réglementaire est réalisée. Elles expliqueront par la suite les principaux ajustements qui sont proposés entre les 1ers et 2nds projets de règlements d’urbanisme révisés ainsi que les conséquences de son adoption.  \nPour en savoir plus sur les assemblées publiques d’information\, suivez ce lien vers notre capsule municipale sur le sujet. \nLes projets et leurs annexes pourront être consultés à la mairie de la Ville de Sainte-Brigitte-de-Laval\, située au 414\, avenue Sainte-Brigitte\, durant les heures de bureau\, soit du lundi au jeudi de 8 h à 12 h et de 13 h à 16 h 30\, le vendredi de 8 h à 12 h ou via notre page officielle de la révision des règlements d’urbanisme. \nMise en contexte\nRappelons-nous que c’est lors de la séance du conseil municipal du 10 mai 2022 que les 1ers projets de règlements d’urbanisme révisés ont été adoptés par le Conseil municipal. Une séance publique de consultation a alors été réalisée le 7 juin 2022 conformément à ce que la Loi sur l’aménagement et l’urbanisme (LAU) prescrit aux municipalités lors d’un tel processus.  \nSe préparer à participer à la séance d’information \n\nS’INFORMER\nPrenez connaissance des capsules expliquant les différents types de règlements d’urbanisme.\nPrenez connaissance des 1ers et 2nds projets de règlements d’urbanisme révisés. \n\n\nPARTICIPER\nParticipez à l’assemblée publique en personne ou via la webdiffusion en direct ou en différé sur la page Youtube de la Ville. \n\nDéroulement de la période de questions \n\nChaque participant aura 5 minutes pour exprimer ses questions devant les représentants de la Ville; \nIl s’agit uniquement d’une intervention orale individuelle\, tout support visuel ne sera pas accepté. 
URL:https://sbdl.net/evenement/seance-dinformation-publique-14-janvier-2025-19-h-presentation-de-la-revision-reglementaire-durbanisme/
LOCATION:Bâtiment du Parc des Saphirs\, ou en direct et en différé sur la chaîne Youtube de la Ville\, 175\, rue Kildare\, Sainte-Brigitte-de-Laval\, Québec\, G0A3K0\, Canada
CATEGORIES:Séance d'information publique
ATTACH;FMTTYPE=image/jpeg:https://sbdl.net/wp-content/uploads/2024/03/m-accelerator-zJYMJIrQYTE-unsplash-1-2-scaled.jpg
ORGANIZER;CN="Service de l'am%C3%A9nagement du territoire":MAILTO:urbanisme@sbdl.net
END:VEVENT
END:VCALENDAR