BEGIN:VCALENDAR
VERSION:2.0
PRODID:-//Sainte-Brigitte-de-Laval - ECPv6.15.20//NONSGML v1.0//EN
CALSCALE:GREGORIAN
METHOD:PUBLISH
X-ORIGINAL-URL:https://sbdl.net
X-WR-CALDESC:Événements pour Sainte-Brigitte-de-Laval
REFRESH-INTERVAL;VALUE=DURATION:PT1H
X-Robots-Tag:noindex
X-PUBLISHED-TTL:PT1H
BEGIN:VTIMEZONE
TZID:America/Toronto
BEGIN:DAYLIGHT
TZOFFSETFROM:-0500
TZOFFSETTO:-0400
TZNAME:EDT
DTSTART:20240310T070000
END:DAYLIGHT
BEGIN:STANDARD
TZOFFSETFROM:-0400
TZOFFSETTO:-0500
TZNAME:EST
DTSTART:20241103T060000
END:STANDARD
BEGIN:DAYLIGHT
TZOFFSETFROM:-0500
TZOFFSETTO:-0400
TZNAME:EDT
DTSTART:20250309T070000
END:DAYLIGHT
BEGIN:STANDARD
TZOFFSETFROM:-0400
TZOFFSETTO:-0500
TZNAME:EST
DTSTART:20251102T060000
END:STANDARD
BEGIN:DAYLIGHT
TZOFFSETFROM:-0500
TZOFFSETTO:-0400
TZNAME:EDT
DTSTART:20260308T070000
END:DAYLIGHT
BEGIN:STANDARD
TZOFFSETFROM:-0400
TZOFFSETTO:-0500
TZNAME:EST
DTSTART:20261101T060000
END:STANDARD
END:VTIMEZONE
BEGIN:VEVENT
DTSTART;TZID=America/Toronto:20250410T150000
DTEND;TZID=America/Toronto:20250410T200000
DTSTAMP:20260424T175501
CREATED:20250328T173047Z
LAST-MODIFIED:20250328T173047Z
UID:19399-1744297200-1744315200@sbdl.net
SUMMARY:FORUM CITOYEN | "Les inondations : Anticiper\, prévenir\, comprendre et agir ensemble"
DESCRIPTION:La Ville de Sainte-Brigitte-de-Laval\, en collaboration avec l’Organisme de bassins versants (OBV) Charlevoix-Montmorency\, convie les résidents de son territoire à un forum citoyen inédit portant sur les enjeux d’inondation\, intitulé : « Les inondations : Anticiper\, prévenir\, comprendre et agir ensemble ». \nL’événement se tiendra le 10 avril 2025\, de 15 h à 20 h\, au bâtiment du Parc des Saphirs (175\, rue Kildare). Il s’adresse autant aux citoyens riverains de la rivière Montmorency qu’à ceux qui sont soucieux de mieux comprendre les risques liés aux crues\, permettra d’échanger avec des experts\, découvrir les mesures préventives mises en place et recevoir des conseils pratiques pour se préparer en cas d’inondation. \nUn événement collaboratif pour mieux faire face aux crues\nDans un contexte où plusieurs citoyens du bassin versant de la rivière Montmorency sont confrontés régulièrement à des risques d’inondation\, cette initiative interactive et conviviale de la Ville vise à : \n\nPrésenter les risques liés aux inondations;\nExpliquer les mesures préventives déployées par la municipalité et ses partenaires;\nFournir des conseils pratiques pour mieux se préparer et réagir en cas de crue;\nRenforcer l’engagement citoyen et la coordination des actions collectives.\n\nLes participants pourront visiter des kiosques thématiques\, échanger avec des spécialistes\, et obtenir des réponses à leurs questions directement auprès d’intervenants clés en matière de sécurité civile\, mesures d’urgence\, santé\, assurances\, cartographie\, alerte aux citoyens\, et plus encore. \nLes organismes officiels prenant part au forum et liés à l’aléa d’inondation seront présentés sous peu. Leur expertise apportera un éclairage précieux aux participants souhaitant approfondir leurs connaissances et se préparer adéquatement avant l’événement. \nModalités de l’événement\n📅 Date : Jeudi 10 avril 2025\n🕒 Heure : De 15 h à 20 h\n📍 Lieu : Bâtiment du Parc des Saphirs\, 175\, rue Kildare\n🎟️ Entrée libre – Aucune inscription requise \nEnregistrer l’événement Facebook  \nUne belle occasion de comprendre les risques\, prévenir collectivement et renforcer la résilience de notre communauté ! \nVenez en grand nombre rencontrer les experts\, poser vos questions\, et découvrir les mesures concrètes pour mieux vous préparer face aux crues de la rivière Montmorency.
URL:https://sbdl.net/evenement/forum-citoyen-les-inondations-anticiper-prevenir-comprendre-et-agir-ensemble-20250410/
LOCATION:Bâtiment du parc des Saphirs\, salles 1 et 2\, 175\, rue Kildare\, Sainte-Brigitte-de-Laval\, Québec\, G0A3K0\, Canada
CATEGORIES:Événements,Séance d'information publique
ORGANIZER;CN="Ville de Sainte-Brigitte-de-Laval":MAILTO:mairie@sbdl.net
END:VEVENT
END:VCALENDAR