BEGIN:VCALENDAR
VERSION:2.0
PRODID:-//Sainte-Brigitte-de-Laval - ECPv6.15.20//NONSGML v1.0//EN
CALSCALE:GREGORIAN
METHOD:PUBLISH
X-WR-CALNAME:Sainte-Brigitte-de-Laval
X-ORIGINAL-URL:https://sbdl.net
X-WR-CALDESC:Événements pour Sainte-Brigitte-de-Laval
REFRESH-INTERVAL;VALUE=DURATION:PT1H
X-Robots-Tag:noindex
X-PUBLISHED-TTL:PT1H
BEGIN:VTIMEZONE
TZID:America/Toronto
BEGIN:DAYLIGHT
TZOFFSETFROM:-0500
TZOFFSETTO:-0400
TZNAME:EDT
DTSTART:20240310T070000
END:DAYLIGHT
BEGIN:STANDARD
TZOFFSETFROM:-0400
TZOFFSETTO:-0500
TZNAME:EST
DTSTART:20241103T060000
END:STANDARD
BEGIN:DAYLIGHT
TZOFFSETFROM:-0500
TZOFFSETTO:-0400
TZNAME:EDT
DTSTART:20250309T070000
END:DAYLIGHT
BEGIN:STANDARD
TZOFFSETFROM:-0400
TZOFFSETTO:-0500
TZNAME:EST
DTSTART:20251102T060000
END:STANDARD
BEGIN:DAYLIGHT
TZOFFSETFROM:-0500
TZOFFSETTO:-0400
TZNAME:EDT
DTSTART:20260308T070000
END:DAYLIGHT
BEGIN:STANDARD
TZOFFSETFROM:-0400
TZOFFSETTO:-0500
TZNAME:EST
DTSTART:20261101T060000
END:STANDARD
END:VTIMEZONE
BEGIN:VEVENT
DTSTART;VALUE=DATE:20250804
DTEND;VALUE=DATE:20250805
DTSTAMP:20260424T161347
CREATED:20250402T181859Z
LAST-MODIFIED:20250422T135450Z
UID:15041-1754265600-1754351999@sbdl.net
SUMMARY:TAXES MUNICIPALES 2025 | Date limite du 3e versement le 4 août
DESCRIPTION:La date limite pour acquitter le troisième versement des taxes municipales 2025 est le 4 août : \n\n3e versement : au plus tard le 4  août 2025\n4e versement : au plus tard le 6 octobre 2025\n\nOù et comment payer?\nIl existe plusieurs façons d’acquitter vos versements : \n\nEn ligne via le site Web de votre institution financière (seule exception : Banque TD) :\n\nLe « Nom du fournisseur » à inscrire à votre liste de paiement de factures en ligne peut légèrement varier d’une institution à un autre\, exemple : Ste Brigitte De Laval Mun de Tax\nÀ titre de numéro de compte\, indiquez sans tirets ni espaces votre « numéro de référence pour paiement »\, qui est indiqué sur le coupon détachable (numéro « matricule » à 18 chiffres : 0000-00-000-0-000-0000)\n\n\nÀ l’institution bancaire de votre choix;\nPar guichet automatique;\nPar la poste\, en insérant dans l’enveloppe vos quatre chèques postdatés\, libellés à l’ordre de la Ville de Sainte-Brigitte-de-Laval\, avec les coupons détachables correspondant aux dates limites qui y sont inscrites;\nEn déposant votre enveloppe contenant vos quatre chèques postdatés\, libellés à l’ordre de la Ville de Sainte-Brigitte-de-Laval\, et les coupons détachables correspondant aux dates limites qui y sont inscrites dans la boîte à courrier de la mairie\, sise au 414\, avenue Sainte-Brigitte.\n\nLe numéro de référence que vous devez utiliser est le matricule de votre propriété. Ce numéro de 18 caractères doit être entré sans tiret ni espace. \nLes liens suivants permettent d’accéder directement aux institutions qui offrent le service de paiement sécurisé des comptes de taxes de la Ville. \nInstitutions financières\n\nBanque de Montréal\nBanque Scotia\nBanque Nationale\nBanque Royale RBC\nCaisses Desjardins\n\nConsultez votre compte de taxes électronique en créant votre accès sur le portail citoyen « Voilà! »\n \nSaviez-vous qu’il est possible de recevoir votre compte de taxes de façon électronique et d’y avoir accès en tout temps? En effet\, vous aurez non seulement accès à votre compte de taxes en ligne\, mais également à l’évaluation municipale de votre domicile. Il vous suffit de vous créer un dossier citoyen via la plateforme de communication Voilà! Vous verrez\, c’est très simple! \n1- Rendez-vous au https://sainte-brigitte-de-laval.appvoila.com/fr/ \n2- Créez votre compte utilisateur sur le portail citoyen « Voilà! » \n3- Via l’onglet « Propriété »\, ajoutez votre domicile à l’aide des informations qui se trouvent sur votre dernier compte de taxes « papier » : \n\nNuméro de compte « 0000-000000 » (ne pas confondre avec le numéro « matricule » : 0000-00-000-0-000-0000)\nMontant du premier versement de l’année en cours (incluant les cents\, séparé par un point (.) Ex. : 765.35$)\n\nSélectionnez l’option de recevoir le prochain compte de taxes électroniquement et vous ne recevrez plus de compte de taxes « papier ». Un courriel vous sera plutôt envoyé pour vous aviser de la disponibilité de votre compte de taxes sur le portail Web Voilà! \nNote importante :\nSi vous vous êtes déjà inscrit à une activité des Loisirs\, vous possédez déjà un dossier citoyen sur la plateforme Voilà. Il n’est pas nécessaire de vous créer un nouveau compte. Utilisez simplement votre nom d’utilisateur et votre mot de passe actuels pour ouvrir une session\, et au besoin faites « mot de passe oublié ». \nIncapable d’ajouter votre compte de taxes?\nIl existe un délai de traitement entre le moment où votre dossier de propriété est notarié et le moment où le transfert de propriétaire est mis à jour au registre de propriétés de la Ville de Sainte-Brigitte-de-Laval. Ce délai\, de plus ou moins 2 mois selon l’achalandage des demandes\, fera en sorte qu’il vous sera impossible\, durant ce laps de temps de traitement\, de lier votre compte de taxes à votre propriété sur votre compte Voilà! \nSi vous rencontrez des difficultés\, n’hésitez pas à communiquer avec nous : \n\nPour la création de votre compte Voilà! au 418 825-2515 poste 226 ou en écrivant à communications@sbdl.net\nPour l’ajout de votre compte de taxes au 418 825-2515 poste 251 ou en écrivant à taxation@sbdl.net\n\n\nÀ quoi sert le compte de taxes municipal? \nRappelons-nous que cet apport de revenus procure à la Ville la majeure partie des fonds dont elle a besoin pour lui permettre de se développer\, se doter d’infrastructures et d’offrir des services à la population. Il est principalement composé de la taxe foncière générale\, calculée en fonction de l’évaluation des propriétés\, et des tarifications pour les services d’aqueduc\, d’égouts et de gestion des matières résiduelles\, et ce\, conformément aux dispositions de la Loi sur la fiscalité municipale. Les taux de taxation sont déterminés annuellement par le budget de fonctionnement de la Ville qui\, pour l’année 2025\, a été adopté par le conseil municipal le 17 décembre dernier\, lors de la séance extraordinaire du conseil municipal. Le compte de taxes municipal annuel se présente sous forme de quatre (4) versements répartis sur l’année et payables au plus tard le premier jour des mois de mars\, mai\, août et octobre et est envoyé aux propriétaires au début de l’année civile. \n\nDiscours et sommaire du budget 2025\n\nPrésentation  .PPT complète de la séance extraordinaire du 17 décembre 2024\nPrésentation VIDÉO complète de la séance extraordinaire du 17 décembre 2024
URL:https://sbdl.net/evenement/taxes-municipales-2025-date-limite-du-3e-versement-aout-20250804/
CATEGORIES:Taxes municipales
ATTACH;FMTTYPE=image/png:https://sbdl.net/wp-content/uploads/2025/04/Image3.png
ORGANIZER;CN="Service des finances":MAILTO:taxation@sbdl.net
END:VEVENT
END:VCALENDAR