BEGIN:VCALENDAR
VERSION:2.0
PRODID:-//Sainte-Brigitte-de-Laval - ECPv6.15.20//NONSGML v1.0//EN
CALSCALE:GREGORIAN
METHOD:PUBLISH
X-ORIGINAL-URL:https://sbdl.net
X-WR-CALDESC:Événements pour Sainte-Brigitte-de-Laval
REFRESH-INTERVAL;VALUE=DURATION:PT1H
X-Robots-Tag:noindex
X-PUBLISHED-TTL:PT1H
BEGIN:VTIMEZONE
TZID:America/Toronto
BEGIN:DAYLIGHT
TZOFFSETFROM:-0500
TZOFFSETTO:-0400
TZNAME:EDT
DTSTART:20210314T070000
END:DAYLIGHT
BEGIN:STANDARD
TZOFFSETFROM:-0400
TZOFFSETTO:-0500
TZNAME:EST
DTSTART:20211107T060000
END:STANDARD
BEGIN:DAYLIGHT
TZOFFSETFROM:-0500
TZOFFSETTO:-0400
TZNAME:EDT
DTSTART:20220313T070000
END:DAYLIGHT
BEGIN:STANDARD
TZOFFSETFROM:-0400
TZOFFSETTO:-0500
TZNAME:EST
DTSTART:20221106T060000
END:STANDARD
BEGIN:DAYLIGHT
TZOFFSETFROM:-0500
TZOFFSETTO:-0400
TZNAME:EDT
DTSTART:20230312T070000
END:DAYLIGHT
BEGIN:STANDARD
TZOFFSETFROM:-0400
TZOFFSETTO:-0500
TZNAME:EST
DTSTART:20231105T060000
END:STANDARD
END:VTIMEZONE
BEGIN:VEVENT
DTSTART;TZID=America/Toronto:20220508T120000
DTEND;TZID=America/Toronto:20220508T200000
DTSTAMP:20260424T050717
CREATED:20220404T153935Z
LAST-MODIFIED:20220416T100007Z
UID:11143-1652011200-1652040000@sbdl.net
SUMMARY:ÉLECTION PARTIELLE - DISTRICT 1 | Vote par anticipation
DESCRIPTION:Les citoyens du district 1 sont invités à se présenter bâtiment du Parc des Saphirs (175\, rue Kildare) pour exercer leur droit de vote à l’une de ces 2 dates : \n\nVote par anticipation : dimanche 8 mai\, entre 12 h et 20 h\nJour du scrutin : dimanche 15 mai\, entre 10 h et 20 h\n\nCandidats au poste de conseiller municipal – District 1 \n\nM. Christian Paquet\nM. Simon St-Hilaire\n\nAdresses concernées par le District 1\n\nAulnes\, rue des\nBiron\, rue\nCalvaire\, rue du\nCarrefour\, rue du\nCèdres\, rue des\nCormiers\, rue des\nCyprès\, rue des\nDeux-Rapides\, rue des\nDrouin\, rue\nÉcart\, rue de l’\nÉclaircie\, rue de l’\nEscalade\, rue de l’\nFrênes\, rue des\nGentianes\, rue des\nHêtres\, rue des\nLac\, boul. du\nLortie\, rue\nMarcoux\, rue\nMare\, rue de la\nMerisiers\, rue des\nMitrelles\, rue des\nNicolau\, rue\nParent\, rue\nPromenade\, rue de la\nPruches\, rue des\nRemous\, rue des\nSablière\, rue de la\nSainte-Brigitte (#3 au #250)\, avenue\nSaint-Charles\, rue\nSous-Bois\, chemin du\nTilleuls\, rue des\nTrembles\, rue des\nTrilles\, rue des\n\nVous n’avez pas votre carton de vote? \nRendez-vous simplement au bureau de vote bâtiment du Parc des Saphirs (175\, rue Kildare) avec une pièce d’identité avec photo\, et par la suite notre personnel vous dirigera. Veuillez avoir l’une de ces pièces d’identité en main : \n\nPermis de conduire du Québec\nCarte d’assurance maladie du Québec\nPasseport canadien\nCertificat de statut d’Indien\nCarte d’identité des Forces canadiennes
URL:https://sbdl.net/evenement/election-partielle-district-1-vote-par-anticipation/
ORGANIZER;CN="Ville de Sainte-Brigitte-de-Laval":MAILTO:mairie@sbdl.net
END:VEVENT
BEGIN:VEVENT
DTSTART;TZID=America/Toronto:20220510T190000
DTEND;TZID=America/Toronto:20220510T200000
DTSTAMP:20260424T050717
CREATED:20220105T155448Z
LAST-MODIFIED:20220511T133638Z
UID:10778-1652209200-1652212800@sbdl.net
SUMMARY:Séance ordinaire du conseil municipal
DESCRIPTION:NOTES IMPORTANTES \n1- La séance du conseil municipal se déroulera en présentiel\, à 19h00\, au bâtiment du parc des Saphirs (175\, rue Kildare). Elle sera également simultanément Webdiffusée en direct. La séance demeurera ensuite disponible pour visionnement en différé sur la chaîne YouTube de la ville. \nLes citoyens voulant assister à la séance doivent respecter les mesures sanitaires suivantes : \n\nSe désinfecter les mains à l’arrivée dans le bâtiment\, à l’aide du gel hydroalcoolique mis à leur disposition;\nPorter un masque en tout temps durant la séance\, même en étant assis. Le masque doit être porté adéquatement et couvrir le nez et la bouche;\nRespecter les mesures de distanciation d’un mètre et l’emplacement des places assises;\nNe pas se présenter si l’on présente des symptômes de la COVID\, si l’on est en attente d’un diagnostic de la COVID ou si on a été en contact avec un cas positif à la COVID dans les 14 derniers jours.\n\nLa Ville peut exiger de toute personne qui ne respecte pas les mesures sanitaires ou les consignes\, avant ou pendant la séance\, de quitter immédiatement les lieux. \n2- Les citoyens désirant poser leur question au maire ou aux élus peuvent le faire par le biais du formulaire de questions électronique prévu à cet effet. Les élus répondront aux questions qui auront été transmises avant 16 h\, la journée même de la séance. Les questions reçues après 16 h pourraient ne pas recevoir de réponse en séance. Par contre\, elles seront tout de même transmises aux élus après la séance du conseil municipal. \nDocuments de la séance : \n\nOrdre du jour projeté\nProjet de règlement 913-22 – Règlement de lotissement\nProjet de règlement 914-22 – Règlement de construction\nPremier projet de règlement 915-22 – Règlement de zonage\nProjet de règlement 912-22 – Plan d’urbanisme de la ville de Sainte-Brigitte-de-Laval\n\nVisionnez la séance sur la chaîne Youtube de la Ville en cliquant sur les minutes pour sélectionner le sujet abordé que vous désirez consultez (Section  » description de la vidéo »): https://www.youtube.com/watch?v=EcOswUlSeas \nÀ PROPOS DES SÉANCES DU CONSEIL MUNICIPAL \nLa séance du conseil municipal représente le principal lieu d’exercice de la démocratie municipale.\nNous invitons donc les citoyens à y participer activement : \n\nPour savoir ce qui se passe dans votre ville;\nPour avoir la bonne information et mieux comprendre les orientations;\nPour poser vos questions\, partager votre opinion et vos idées.\n\nLe conseil municipal est composé du maire et de six conseillers représentant chacun un district. De quel district êtes-vous et quel est votre conseiller attitré? \n  \nPOSEZ VOS QUESTIONS ET PARTAGEZ VOS PRÉOCCUPATIONS AU MAIRE ET AUX ÉLUS \nVoici les options s’offrant à vous : \n\nSi vous désirez que votre question soit lue et répondue lors du conseil municipal :\n\nVous devez soumettre votre question via le formulaire qui est mis en ligne à cet effet le vendredi précédant la séance. Consultez les dates des séances du conseil municipal.\n\n\nSi vous NE désirez PAS que votre question soit lue et répondue lors du conseil municipal. Sachez qu’il est toujours possible de contacter les conseillers municipaux ou le maire. Ainsi\, les citoyens désirant questionner les élus ou pour toute question ne nécessitant pas une réponse en séance du conseil\, sont invités :\n\nÀ écrire directement aux élus. Consultez les coordonnées des conseillers municipaux (téléphone et courriel);\nÀ communiquer avec la mairie à mairie@sbdl.net et qui assurera le suivi.\n\n\n\nNotez à votre agenda les dates des séances du conseil municipal.
URL:https://sbdl.net/evenement/seance-ordinaire-du-conseil-municipal-6/
LOCATION:Webdiffusion en direct via la chaîne Youtube de la Ville
ORGANIZER;CN="Ville de Sainte-Brigitte-de-Laval":MAILTO:mairie@sbdl.net
END:VEVENT
BEGIN:VEVENT
DTSTART;TZID=America/Toronto:20220515T100000
DTEND;TZID=America/Toronto:20220515T200000
DTSTAMP:20260424T050717
CREATED:20220404T154357Z
LAST-MODIFIED:20220416T095734Z
UID:11144-1652608800-1652644800@sbdl.net
SUMMARY:ÉLECTION PARTIELLE - DISTRICT 1 | Jour du scrutin
DESCRIPTION:Les citoyens du district 1 sont invités à se présenter au bâtiment du Parc des Saphirs (175\, rue Kildare) pour exercer leur droit de vote entre 10 h 00 et 20 h 00. \nCandidats au poste de conseiller municipal – District 1 \n\nM. Christian Paquet\nM. Simon St-Hilaire\n\nAdresses concernées par le District 1\n\nAulnes\, rue des\nBiron\, rue\nCalvaire\, rue du\nCarrefour\, rue du\nCèdres\, rue des\nCormiers\, rue des\nCyprès\, rue des\nDeux-Rapides\, rue des\nDrouin\, rue\nÉcart\, rue de l’\nÉclaircie\, rue de l’\nEscalade\, rue de l’\nFrênes\, rue des\nGentianes\, rue des\nHêtres\, rue des\nLac\, boul. du\nLortie\, rue\nMarcoux\, rue\nMare\, rue de la\nMerisiers\, rue des\nMitrelles\, rue des\nNicolau\, rue\nParent\, rue\nPromenade\, rue de la\nPruches\, rue des\nRemous\, rue des\nSablière\, rue de la\nSainte-Brigitte (#3 au #250)\, avenue\nSaint-Charles\, rue\nSous-Bois\, chemin du\nTilleuls\, rue des\nTrembles\, rue des\nTrilles\, rue des\n\nVous n’avez pas votre carton de vote? \nRendez-vous simplement au bureau de vote bâtiment du Parc des Saphirs (175\, rue Kildare) avec une pièce d’identité avec photo\, et par la suite notre personnel vous dirigera. Veuillez avoir l’une de ces pièces d’identité en main : \n\nPermis de conduire du Québec\nCarte d’assurance maladie du Québec\nPasseport canadien\nCertificat de statut d’Indien\nCarte d’identité des Forces canadiennes
URL:https://sbdl.net/evenement/election-partielle-district-1-jour-du-scrutin/
LOCATION:Parc des Saphirs\, 175\, rue Kildare\, Sainte-Brigitte-de-Laval\, G0A 3K0
ORGANIZER;CN="Ville de Sainte-Brigitte-de-Laval":MAILTO:mairie@sbdl.net
END:VEVENT
BEGIN:VEVENT
DTSTART;TZID=America/Toronto:20220516T173000
DTEND;TZID=America/Toronto:20220516T180000
DTSTAMP:20260424T050717
CREATED:20220513T170526Z
LAST-MODIFIED:20220802T115815Z
UID:11327-1652722200-1652724000@sbdl.net
SUMMARY:Séance extraordinaire du conseil municipal
DESCRIPTION:1- La séance du conseil municipal se déroulera en présentiel\, à 17 h 30\, au bâtiment du parc des Saphirs (175\, rue Kildare). Elle sera également simultanément Webdiffusée en direct. La séance demeurera ensuite disponible pour visionnement en différé sur la chaîne YouTube de la ville.\n\n\n2- Les citoyens désirant poser leur question au maire ou aux élus peuvent le faire par le biais du formulaire de question électronique prévu à cet effet. Les élus répondront aux questions qui auront été transmises avant 16 h\, la journée même de la séance. Les questions reçues après 16 h pourraient ne pas recevoir de réponse en séance. Par contre\, elles seront tout de même transmises aux élus après la séance du conseil municipal. Les questions posées doivent être liées aux sujets exposés lors de cette séance extraordinaire. \n\nDocuments de la séance : \n\nOrdre du jour projeté de la séance extraordinaire\nProjet 926-22_Règlement de lotissement\n\nAnnexe 1 – carte des secteurs (3)\n\n\nProjet 927-22_Règlement de construction\nProjet de règlement 928-22 – Règlement de zonage\n\nANNEXE 1 – plan de zonageHORS-PU\nANNEXE 1 – plan de zonagePU\nANNEXE 2 – grilles des spécifications\nANNEXE 3 – contraintes_anthropique\nANNEXE 3 – contraintes_natur_anthro_1\nANNEXE 3 – contraintes_natur_anthro_2\nANNEXE 3 – contraintes_natur_anthro_3\nANNEXE 3 – contraintes_natur_anthro_4\nANNEXE 3 – contraintes_naturelles\n\n\n\n\nProjet de règlement 929-22 – Plan d’urbanisme de la ville de Sainte-Brigitte-de-Laval\n\n  \n 
URL:https://sbdl.net/evenement/seance-extraordinaire-du-conseil-municipal-5/
LOCATION:Bâtiment du Parc des Saphirs\, ou en direct et en différé sur la chaîne Youtube de la Ville\, 175\, rue Kildare\, Sainte-Brigitte-de-Laval\, Québec\, G0A3K0\, Canada
ORGANIZER;CN="Ville de Sainte-Brigitte-de-Laval":MAILTO:mairie@sbdl.net
END:VEVENT
BEGIN:VEVENT
DTSTART;TZID=America/Toronto:20220528T080000
DTEND;TZID=America/Toronto:20220528T133000
DTSTAMP:20260424T050717
CREATED:20220503T170807Z
LAST-MODIFIED:20220527T121816Z
UID:11244-1653724800-1653744600@sbdl.net
SUMMARY:JOURNÉE (1 de 2) DE L'ENVIRONNEMENT | 28 et 29 mai prochains
DESCRIPTION:La Ville est heureuse de tenir la fameuse Journée de l’environnement encore cette année! L’événement se déroulera sur deux jours\, soit les 28 et 29 mai prochains. \nHoraire\nSAMEDI – 9 H À 12 H\n\nParcours à pied des kiosques entre l’Église et le cimetière;\nRécupération des masques de procédure;\nRécupération de vieilles piles;\nRécupération de sacs de collation (barres tendres\, chips\, etc.);\nDistribution de petits arbres (2 files sur place\, soyez attentif!);\nDistribution de compost (contenant maximal de 20 L);\nAchat de tests d’eau sur place au coût de 25$.\n\nSAMEDI – 8 H À 13 H 30\n\nVente de fleurs de la Maison des jeunes La Barak et des Matinées Mères-Enfants\n\nDIMANCHE – 11 H À 13 H\n\nDistribution de compost (Service au volant\, contenant maximal de 20 L);\nDistribution des arbres de 2 mètres (75 $ taxes incluses);\nRécupération de tests d’eau vendus la veille (samedi).\n\nAchat d’un arbre\nL’achat des arbres se déroulera le 29 mai de 11h à 13h\, dans le stationnement de la mairie. Les arbres seront vendus au coût de 75$ /arbre sous le principe du « premier arrivé\, premier servi » (limite d’un arbre par résidence avec preuve d’adresse). \nPayez et emportez!\nModes de paiement : \n\nArgent comptant (montant juste);\nDébit;\nChèque.\n\nInformation sur votre espèce d’arbre\nConsulter la version .pdf\n \nAchat d’un test d’eau\nL’achat de tests d’eau sera possible le 28 mai de 9h à 12h. au coût de 25$ taxes incluses (montant juste en argent comptant\, débit ou chèque). L’échantillon pourra être rapporté la journée même avant midi ou le 29 mai de 11h à 13h. \nDistribution gratuite de plants d’arbres\nGrâce à l’Association forestière des deux rives (AF2R) ainsi qu’au ministère des Forêts\, de la Faune et des Parcs (MFFP)\, de petits plants d’arbres seront distribués GRATUITEMENT entre 9 h et 12 h dans le stationnement de l’église (1\, rue du Couvent). \n\nLes plants ont moins de 30 cm de haut;\n5 sortes de conifères et 3 sortes de feuillus sont disponibles;\nUn arbre par citoyen (à moins qu’il soit constaté que les quantités ne s’écoulent pas rapidement);\n\nVoici les essences disponibles :\n– Épinette blanche;\n– Pin blanc;\n– Pin rouge;\n– Mélèze laricin;\n– Thuya occidental (Cèdre);\n– Érable à sucre;\n– Chêne rouge;\n– Bouleau jaune (Merisier). \nVeuillez prendre note qu’il y aura deux files :\n une pour les citoyens qui ont fait leur choix et qui n’ont pas de question;\n et l’autre pour ceux qui veulent plus d’informations pour faire leur choix. \nRécupération des emballages collation\nSaviez-vous que\, lors de la Journée de l’environnement\, la Ville recycle les emballages collation? Eh oui!!! Le Service de l’aménagement du territoire s’est doté d’une boîte TerraCycle pour disposer de ces matières plutôt populaires. Les déchets recueillis sont mécaniquement et/ou manuellement séparés en métaux\, matières plastiques et fibres. Les métaux sont fondus pour pouvoir être recyclés. Les fibres (tels que le papier ou les produits à base de bois) sont recyclées ou compostées. Les plastiques subissent l’extrusion et la granulation pour être moulés dans de nouveaux produits en plastique recyclé. Accumulez-les d’ici le 28 mai! \nVoici ci-dessous les emballages acceptés : \n \n 
URL:https://sbdl.net/evenement/journee-de-lenvironnement-2022/
LOCATION:Église de Sainte-Brigitte-de-Laval\, 1\, rue du Couvent\, Sainte-Brigitte-de-Laval\, Québec\, G0A 3K0\, Canada
ORGANIZER;CN="Ville de Sainte-Brigitte-de-Laval":MAILTO:mairie@sbdl.net
END:VEVENT
BEGIN:VEVENT
DTSTART;TZID=America/Toronto:20220529T110000
DTEND;TZID=America/Toronto:20220529T130000
DTSTAMP:20260424T050717
CREATED:20220504T174127Z
LAST-MODIFIED:20220527T122900Z
UID:11249-1653822000-1653829200@sbdl.net
SUMMARY:JOURNÉE (2 de 2) DE L'ENVIRONNEMENT | 28 et 29 mai prochains
DESCRIPTION:La Ville est heureuse de tenir la fameuse Journée de l’environnement encore cette année! L’événement se déroulera sur deux jours\, soit les 28 et 29 mai prochains. \nHoraire\nSAMEDI – 9 H À 12 H\n\nParcours à pied des kiosques entre l’Église et le cimetière;\nRécupération des masques de procédure;\nRécupération de vieilles piles;\nRécupération de sacs de collation (barres tendres\, chips\, etc.);\nDistribution de petits arbres (2 files sur place\, soyez attentif!);\nDistribution de compost (contenant maximal de 20 L);\nAchat de tests d’eau sur place au coût de 25$.\n\nSAMEDI – 8 H À 13 H 30\n\nVente de fleurs de la Maison des jeunes La Barak et des Matinées Mères-Enfants\n\nDIMANCHE – 11 H À 13 H\n\nDistribution de compost (Service au volant\, contenant maximal de 20 L);\nDistribution des arbres de 2 mètres (75 $ taxes incluses);\nRécupération de tests d’eau vendus la veille (samedi).\n\nAchat d’un arbre\nL’achat des arbres se déroulera le 29 mai de 11h à 13h\, dans le stationnement de la mairie. Les arbres seront vendus au coût de 75$ /arbre sous le principe du « premier arrivé\, premier servi » (limite d’un arbre par résidence avec preuve d’adresse). \nPayez et emportez!\nModes de paiement : \n\nArgent comptant (montant juste);\nDébit;\nChèque.\n\nInformation sur votre espèce d’arbre\nConsulter la version .pdf\n \nAchat d’un test d’eau\nL’achat de tests d’eau sera possible le 28 mai de 9h à 12h. au coût de 25$ taxes incluses (montant juste en argent comptant\, débit ou chèque). L’échantillon pourra être rapporté la journée même avant midi ou le 29 mai de 11h à 13h. \nDistribution gratuite de plants d’arbres\nGrâce à l’Association forestière des deux rives (AF2R) ainsi qu’au ministère des Forêts\, de la Faune et des Parcs (MFFP)\, de petits plants d’arbres seront distribués GRATUITEMENT entre 9 h et 12 h dans le stationnement de l’église (1\, rue du Couvent). \n\nLes plants ont moins de 30 cm de haut;\n5 sortes de conifères et 3 sortes de feuillus sont disponibles;\nUn arbre par citoyen (à moins qu’il soit constaté que les quantités ne s’écoulent pas rapidement);\n\nVoici les essences disponibles :\n– Épinette blanche;\n– Pin blanc;\n– Pin rouge;\n– Mélèze laricin;\n– Thuya occidental (Cèdre);\n– Érable à sucre;\n– Chêne rouge;\n– Bouleau jaune (Merisier). \nVeuillez prendre note qu’il y aura deux files :\n une pour les citoyens qui ont fait leur choix et qui n’ont pas de question;\n et l’autre pour ceux qui veulent plus d’informations pour faire leur choix. \nRécupération des emballages collation\nSaviez-vous que\, lors de la Journée de l’environnement\, la Ville recycle les emballages collation? Eh oui!!! Le Service de l’aménagement du territoire s’est doté d’une boîte TerraCycle pour disposer de ces matières plutôt populaires. Les déchets recueillis sont mécaniquement et/ou manuellement séparés en métaux\, matières plastiques et fibres. Les métaux sont fondus pour pouvoir être recyclés. Les fibres (tels que le papier ou les produits à base de bois) sont recyclées ou compostées. Les plastiques subissent l’extrusion et la granulation pour être moulés dans de nouveaux produits en plastique recyclé. Accumulez-les d’ici le 28 mai! \nVoici ci-dessous les emballages acceptés : \n \n 
URL:https://sbdl.net/evenement/journee-2-de-2-de-lenvironnement-28-et-29-mai-prochains/
LOCATION:Église de Sainte-Brigitte-de-Laval\, 1\, rue du Couvent\, Sainte-Brigitte-de-Laval\, Québec\, G0A 3K0\, Canada
ORGANIZER;CN="Ville de Sainte-Brigitte-de-Laval":MAILTO:mairie@sbdl.net
END:VEVENT
END:VCALENDAR