BEGIN:VCALENDAR
VERSION:2.0
PRODID:-//Sainte-Brigitte-de-Laval - ECPv6.15.20//NONSGML v1.0//EN
CALSCALE:GREGORIAN
METHOD:PUBLISH
X-WR-CALNAME:Sainte-Brigitte-de-Laval
X-ORIGINAL-URL:https://sbdl.net
X-WR-CALDESC:Événements pour Sainte-Brigitte-de-Laval
REFRESH-INTERVAL;VALUE=DURATION:PT1H
X-Robots-Tag:noindex
X-PUBLISHED-TTL:PT1H
BEGIN:VTIMEZONE
TZID:America/Toronto
BEGIN:DAYLIGHT
TZOFFSETFROM:-0500
TZOFFSETTO:-0400
TZNAME:EDT
DTSTART:20210314T070000
END:DAYLIGHT
BEGIN:STANDARD
TZOFFSETFROM:-0400
TZOFFSETTO:-0500
TZNAME:EST
DTSTART:20211107T060000
END:STANDARD
BEGIN:DAYLIGHT
TZOFFSETFROM:-0500
TZOFFSETTO:-0400
TZNAME:EDT
DTSTART:20220313T070000
END:DAYLIGHT
BEGIN:STANDARD
TZOFFSETFROM:-0400
TZOFFSETTO:-0500
TZNAME:EST
DTSTART:20221106T060000
END:STANDARD
BEGIN:DAYLIGHT
TZOFFSETFROM:-0500
TZOFFSETTO:-0400
TZNAME:EDT
DTSTART:20230312T070000
END:DAYLIGHT
BEGIN:STANDARD
TZOFFSETFROM:-0400
TZOFFSETTO:-0500
TZNAME:EST
DTSTART:20231105T060000
END:STANDARD
END:VTIMEZONE
BEGIN:VEVENT
DTSTART;VALUE=DATE:20220604
DTEND;VALUE=DATE:20220605
DTSTAMP:20260424T035410
CREATED:20220511T142631Z
LAST-MODIFIED:20220511T153657Z
UID:11290-1654300800-1654387199@sbdl.net
SUMMARY:FÊTE DES VOISINS | Édition 2022
DESCRIPTION:La Fête des voisins est de retour! \nElle vise à rapprocher les gens habitant un même voisinage. Cette fête permet de développer la cordialité et la solidarité dans son milieu de vie. Elle est organisée par les citoyens eux-mêmes. \n\nPour plus d’informations sur cette Fête célébrée partout dans le monde entier : https://espacemuni.org/programmes/participation-citoyenne/fete-des-voisins/ \n\nDes formules pour tous les goûts! \n\n5 à 7\nPique-nique\nSoirée karaoké\nVolleyball ou tout autre sport d’équipe\nConcours de cuisine\nJeux de société\nEtc.\n\nInscrivez votre Fête !\nLa Ville de Sainte-Brigitte-de-Laval peut vous soutenir à sa manière dans la tenue de l’événement. Remplissez le formulaire ci-joint pour inscrire votre Fête auprès du Service des loisirs et voir les possibilités qui vous sont offertes. \nIMPORTANT : Téléchargez le formulaire d’inscription ci-dessous et enregistrez-le sur votre poste informatique avant de saisir vos informations. Une fois terminé\, joignez-le à votre courriel et faites-le parvenir à loisirs@sbdl.net. \nFormulaire d’inscription à la Fête des voisins\n  \nDate limite d’inscription : Le vendredi 27 mai\nPour plus d’information\, contacter le Service des loisirs à  loisirs@sbdl.net ou au 418 825-2515 # 254. \n 
URL:https://sbdl.net/evenement/fete-des-voisins-4-juin-2022/
LOCATION:Sainte-Brigitte de laval\, Sainte-Brigitte de laval\, Québec\, Canada
ORGANIZER;CN="Ville de Sainte-Brigitte-de-Laval":MAILTO:mairie@sbdl.net
END:VEVENT
BEGIN:VEVENT
DTSTART;TZID=America/Toronto:20220604T093000
DTEND;TZID=America/Toronto:20220604T140000
DTSTAMP:20260424T035410
CREATED:20220510T192826Z
LAST-MODIFIED:20220602T163424Z
UID:11285-1654335000-1654351200@sbdl.net
SUMMARY:FÊTE DE LA PÊCHE | 20e édition
DESCRIPTION:Après deux longues années d’absence\, la Fête de la pêche peut finalement célébrer sa 20e édition! \nNous vous attendrons en grand nombre le samedi 4 juin 2022 entre 9h30 et 14h00 au parc Richelieu situé au 395\, avenue Sainte-Brigitte. Les gens présents auront droit à plusieurs activités en lien avec bien sûr la pêche! Sans oublier que le lac Goudreault sera ensemencé de 1500 truites pour permettre aux participants de pêcher\, durant cette fin de semaine où les permis de pêche ne seront pas nécessaires! Plusieurs prix de présence seront aussi distribués parmi les participants! \nComme à l’habitude\, nous offrirons également la Formation « Pêche en herbe » aux jeunes de 6 à 12 ans. Cette formation GRATUITE aura lieu de 10h00 à 11h00 le 4 juin au parc Richelieu également. Les participants recevront une formation sur la pêche en plus de se voir remettre une canne à pêche et un certificat de pêche (qui est valide comme permis de pêche jusqu’aux 18 ans du participant) et plusieurs autres articles promotionnels. Les places à cette activité sont limitées alors\, vous devez vous inscrire via la plateforme Voilà! Les inscriptions débuteront lundi 16 mai\, dès 8h et se termineront le vendredi 20 mai\, midi. \n  \nPOSSIBILITÉS DE STATIONNEMENT\nCe samedi 4 juin entre 9 h et 14 h\, plusieurs activités sportives\, communautaires\, culturelles et de loisir auront lieu tout au long de la journée. L’achalandage risque donc d’être assez élevé et avec la fermeture du pont de l’avenue Sainte-Brigitte\, il faut prévoir des endroits de stationnement sécuritaire pour tous les participants aux activités. \nTout d’abord nous souhaitons vous encourager fortement à vous déplacer en covoiturage ou en transport actif afin de réduire le nombre de voitures dans le noyau villageois. Pour les stationnements disponibles\, vous pourrez utiliser les emplacements suivants : \n\nMairie\nÉglise\nÉcole Trivent 1 et Trivent 2\nRue du Sablon\nPlace des Sables\nRue Saint-Jacques\nRue Saint-Paul\nRue Verret\nRue Dionne\n\n*notez que le stationnement dans les rues devra se faire uniquement du côté des numéros de porte pairs afin de laisser l’espace aux véhicules d’urgence de circuler en cas de besoin. \nLes endroits suivants seront prohibés pour le stationnement : \n\nRue Goudreault\nAvenue Sainte-Brigitte\nRue de la Fabrique\nRue du Couvent
URL:https://sbdl.net/evenement/fete-de-la-peche-20e-edition/
LOCATION:Parc Richelieu\, 386\, avenue Sainte-Brigitte\, Sainte-Brigitte-de-Laval\, Québec\, G0A 3K0\, Canada
ORGANIZER;CN="Ville de Sainte-Brigitte-de-Laval":MAILTO:mairie@sbdl.net
END:VEVENT
BEGIN:VEVENT
DTSTART;TZID=America/Toronto:20220604T100000
DTEND;TZID=America/Toronto:20220604T110000
DTSTAMP:20260424T035410
CREATED:20220510T191635Z
LAST-MODIFIED:20220602T164740Z
UID:11280-1654336800-1654340400@sbdl.net
SUMMARY:FÊTE DE LA PÊCHE | Formation "Pêche en herbe" pour les 6 à 12 ans (inscription obligatoire)
DESCRIPTION:Après deux longues années d’absence\, la fête de la pêche est enfin de retour en force cette année! Dans le cadre de cette activité très populaire\, les enfants de 6 à 12 ans sont invités à s’inscrire pour participer à une formation GRATUITE pour apprendre les rudiments de la pêche. \n\nHeures de la formation : 10h00 à 11h00\nChaque participant à la formation pêche en herbe recevra un kit de pêche pour débutant (canne à pêche\, moulinet et coffre de leurres)\, une brochure éducative\, un certificat pêche en herbe qui fait office de permis de pêche valide jusqu’à ses 18 ans et un encart promotionnel offrant des rabais chez Canadian Tire.\nOuverture des inscriptions : Le lundi 16 mai\, à 8h\, et ce jusqu’au 20 mai\, midi (places limitées);\n\nInscription via votre compte Voilà! : https://sainte-brigitte-de-laval.appvoila.com/fr/\nL’inscription n’est pas possible sur l’application mobile\, vous devrez donc procéder via un ordinateur en suivant les indications suivantes :\n\nCliquez sur la pastille LOISIRS;\nEnsuite l’onglet ACTIVITÉS;\nPuis sélectionner S’INSCRIRE.\nSi vous avez des questions en cours de processus\, nous pourrons vous guider en nous contactant : au 418-825-2515\, poste 254 ou loisirs@sbdl.net.\n\n\n\n\n\nConsultez tous les détails de la journée de la Fête de la pêche du 4 juin 2022 en suivant ce lien : https://sbdl.net/evenement/fete-de-la-peche-21e-edition/ \n  \nPour connaître les possibilités de stationnement : https://sbdl.net/samedi-4-juin-fort-achalandage…/
URL:https://sbdl.net/evenement/fete-de-la-peche-formation-peche-en-herbe-pour-les-6-a-17-ans-inscription-obligatoire/
LOCATION:Parc Richelieu\, 386\, avenue Sainte-Brigitte\, Sainte-Brigitte-de-Laval\, Québec\, G0A 3K0\, Canada
ORGANIZER;CN="Ville de Sainte-Brigitte-de-Laval":MAILTO:mairie@sbdl.net
END:VEVENT
BEGIN:VEVENT
DTSTART;TZID=America/Toronto:20220607T190000
DTEND;TZID=America/Toronto:20220607T210000
DTSTAMP:20260424T035410
CREATED:20220510T193901Z
LAST-MODIFIED:20220609T154556Z
UID:10945-1654628400-1654635600@sbdl.net
SUMMARY:RÉVISION DES RÈGLEMENTS D'URBANISME | Assemblée publique de consultation citoyenne #1
DESCRIPTION:Communiqué – Merci à tous les participants!\nVisionner la consultation par sujets (voir les minutes dans la description de la vidéo)  \nButs visés :\nEn conformité avec les dispositions de la Loi sur l’aménagement et l’urbanisme (LAU)\, lors de cette assemblée publique\, la personne responsable de l’assemblée expliquera le projet de règlement ainsi que les conséquences de son adoption et entendra les personnes qui désirent s’exprimer. \nCette assemblée publique de consultation vise à permettre aux citoyens : \n\nD’enrichir et de bonifier le processus décisionnel;\nDe poser les questions nécessaires à leur bonne appropriation de l’information;\nDe mieux comprendre la portée des règlements concernées;\nD’émettre leur point de vue concernant les règlements d’urbanisme visés par la révision.\n\nPour en savoir plus sur les rouages d’une assemblée publique de consultation citoyenne suivez ce lien vers notre capsule municipale sur le sujet : https://sbdl.net/lassemblee-publique-de-consultation-citoyenne/ \nLes projets et leurs annexes peuvent être consultés à la mairie de la Ville de Sainte-Brigitte-de-Laval\, située au 414\, avenue Sainte-Brigitte\, durant les heures de bureau\, soit du lundi au jeudi de 8 h à 12 h et de 13 h à 16 h 30\, le vendredi de 8 h à 12 h ou via notre page officielle de la révision des règlements d’urbanisme : https://sbdl.net/revision-quinquennale-des-reglements-durbanisme-2/ \n\nDéroulement :\nL’activité prendra la forme d’une présentation en présentielle\, diffusée en direct\, et disponible ensuite pour visionnement en différé\, au cours de laquelle les experts urbanistes de la Ville présenteront les projets de règlements concernés par cette révision. \nUne période d’échange sera également prévue afin de permettre à la population de poser des questions en direct. \nComment bien se préparer à participer à la consultation?\n\nS’INFORMER\nSur la démarche de révision\, prenez connaissance des projets de règlements d’urbanisme.\nPOSER DES QUESTIONS\nSoumettez votre question via notre formulaire électronique de transmission des questions citoyennes pour réponse dans les jours suivants (disponible jusqu’au 8 juin\, 9h)\, ou posez votre question en personne lors de cette consultation publique.\nPARTICIPER\nParticipez à l’assemblée publique en personne ou via la webdiffusion en direct ou en différé sur la page Youtube de la Ville.\nCOMMENTER\nPour émettre un commentaire\, suggestion ou question\, merci de remplir ce formulaire électronique de transmission des interventions citoyennes.\n\nDéroulement de la période de questions\n\nChaque participant aura 5 minutes pour exprimer ses commentaires sur le projet de plan d’urbanisme devant les représentants de la Ville;\nAu besoin\, il est possible que les représentants de la Ville pose des questions d’éclaircissement au participant;\nIl s’agit uniquement d’une intervention orale individuelle\, tout support visuel ne sera pas accepté.\n\n\nPour participer :\n\n\n\nEn présentiel :\n\nÀ l’adresse suivante : Au bâtiment du Parc des Saphirs\, situé au 175\, rue Kildare\n\n\nEn webdiffusion en direct via ce lien : https://sbdl.net/webdiffusion/\nEn différé via la chaîne Youtube de la Ville :\n\nLa diffusion en différé sera disponible dès le lendemain.\n\n\n\n\n\n 
URL:https://sbdl.net/evenement/revision-des-reglements-durbanisme-assemblee-publique-de-consultation-citoyenne-1-de-2-109-2-125/
LOCATION:Parc des Saphirs\, 175\, rue Kildare\, Sainte-Brigitte-de-Laval\, G0A 3K0
ORGANIZER;CN="Ville de Sainte-Brigitte-de-Laval":MAILTO:mairie@sbdl.net
END:VEVENT
BEGIN:VEVENT
DTSTART;TZID=America/Toronto:20220612T110000
DTEND;TZID=America/Toronto:20220612T140000
DTSTAMP:20260424T035410
CREATED:20220603T155755Z
LAST-MODIFIED:20220607T114251Z
UID:11471-1655031600-1655042400@sbdl.net
SUMMARY:SÉCURITÉ À VÉLO | Atelier pour les enfants et adolescents avec la Sûreté du Québec
DESCRIPTION:En collaboration avec l’administration de la Ville\, vous êtes invités à réserver ce superbe atelier dans l’agenda de vos enfants. Parfait timing avant le début du congé scolaire estival. Une initiative de vos élus municipaux. \nQUOI : Atelier sur la sécurité à vélo animé par des agents de la Sûreté du Québec. \n\nParcours d’habileté\nApprentissage du code de la route pour cycliste\nSensibilisation au port du casque ainsi que l’importance des réflecteurs de sécurité\nRemise de permis de conduire aux enfants ayant participé à l’activité\nDîner hot-dog et prix de présence !\n\nQUAND : Le dimanche 12 juin\, 11 h à 14 h \nOÙ : À l’école Le Trivent 1 \n\nSi beau temps : Dans la cour d’école\nSi pluie : Dans le gymnase\n\n  \nPour toute question\, contactez la conseillère municipale responsable de l’activité\, Michèle Dufresne\, conseillère municipale du district 6 : mdufresne@sbdl.net \n 
URL:https://sbdl.net/evenement/initiative-du-conseil-municipal-atelier-pour-les-enfants-et-adolescents-sur-la-securite-a-velo-avec-la-surete-du-quebec/
LOCATION:École du Trivent\, 3\, rue du Couvent\, Sainte-Brigitte-de-Laval\, Québec\, G0A 3K0\, Canada
ORGANIZER;CN="Conseil municipal":MAILTO:mairie@sbdl.net
END:VEVENT
BEGIN:VEVENT
DTSTART;TZID=America/Toronto:20220614T190000
DTEND;TZID=America/Toronto:20220614T200000
DTSTAMP:20260424T035410
CREATED:20220105T155551Z
LAST-MODIFIED:20220614T114334Z
UID:10779-1655233200-1655236800@sbdl.net
SUMMARY:Séance ordinaire du conseil municipal
DESCRIPTION:NOTES IMPORTANTES \n1- La séance du conseil municipal se déroulera en présentiel\, à 19h00\, au bâtiment du parc des Saphirs (175\, rue Kildare). Elle sera également simultanément Webdiffusée en direct. La séance demeurera ensuite disponible pour visionnement en différé sur la chaîne YouTube de la ville. \nLes citoyens voulant assister à la séance doivent respecter les mesures sanitaires suivantes : \n\nSe désinfecter les mains à l’arrivée dans le bâtiment\, à l’aide du gel hydroalcoolique mis à leur disposition;\nNe pas se présenter si l’on présente des symptômes de la COVID ou si on a été en contact avec un cas positif à la COVID.\n\nLa Ville peut exiger de toute personne qui ne respecte pas les mesures sanitaires ou les consignes\, avant ou pendant la séance\, de quitter immédiatement les lieux. \n2- Les citoyens désirant poser leur question à la mairesse ou aux élus peuvent le faire par le biais du formulaire de questions électronique prévu à cet effet. Les élus répondront aux questions qui auront été transmises avant 16 h\, la journée même de la séance. Les questions reçues après 16 h pourraient ne pas recevoir de réponse en séance. Par contre\, elles seront tout de même transmises aux élus après la séance du conseil municipal. \nDocuments de la séance : \n\nOrdre du jour projeté\n1er projet de règlement 921-22 – Règlement sur les plans d’aménagement d’ensemble (PAE)\nProjet du règlement 930-22 – Règlement modifiant le Règlement 625-11 – Relativement à des travaux d’augmentation de la capacité de traitement de la station\nd’épuration phase 2 (à venir)\n\nVisionnez la séance sur la chaîne Youtube de la Ville en cliquant sur les minutes pour sélectionner le sujet abordé que vous désirez consultez (Section  « description de la vidéo ») : https://www.youtube.com/user/stebrigittedelaval \nÀ PROPOS DES SÉANCES DU CONSEIL MUNICIPAL \nLa séance du conseil municipal représente le principal lieu d’exercice de la démocratie municipale. \nNous invitons donc les citoyens à y participer activement : \n\nPour savoir ce qui se passe dans votre ville;\nPour avoir la bonne information et mieux comprendre les orientations;\nPour poser vos questions\, partager votre opinion et vos idées.\n\nLe conseil municipal est composé de la mairesse et de six conseillers représentant chacun un district. De quel district êtes-vous et quel est votre conseiller attitré? \nPOSEZ VOS QUESTIONS ET PARTAGEZ VOS PRÉOCCUPATIONS AU MAIRE ET AUX ÉLUS \nVoici les options s’offrant à vous : \n\nSi vous désirez que votre question soit lue et répondue lors du conseil municipal :\n\nVous devez soumettre votre question via le formulaire qui est mis en ligne à cet effet le vendredi précédant la séance. Consultez les dates des séances du conseil municipal.\n\n\nSi vous NE désirez PAS que votre question soit lue et répondue lors du conseil municipal. Sachez qu’il est toujours possible de contacter les conseillers municipaux ou la mairesse. Ainsi\, les citoyens désirant questionner les élus ou pour toute question ne nécessitant pas une réponse en séance du conseil\, sont invités :\n\nÀ écrire directement aux élus. Consultez les coordonnées des conseillers municipaux (téléphone et courriel);\nÀ communiquer avec la mairie à mairie@sbdl.net et qui assurera le suivi.\n\n\n\nNotez à votre agenda les dates des séances du conseil municipal.
URL:https://sbdl.net/evenement/seance-ordinaire-du-conseil-municipal-7/
LOCATION:Webdiffusion en direct via la chaîne Youtube de la Ville
ORGANIZER;CN="Ville de Sainte-Brigitte-de-Laval":MAILTO:mairie@sbdl.net
END:VEVENT
BEGIN:VEVENT
DTSTART;TZID=America/Toronto:20220623T150000
DTEND;TZID=America/Toronto:20220623T233000
DTSTAMP:20260424T035410
CREATED:20220511T162100Z
LAST-MODIFIED:20220607T125907Z
UID:11299-1655996400-1656027000@sbdl.net
SUMMARY:FÊTE NATIONALE SBDL | 23 juin
DESCRIPTION:Pour tout information supplémentaire\, communiquer avec le Service des loisirs par courriel à loisirs@sbdl.net ou par téléphone au 418-825-2515\, poste 254. \n\nHeures de l’événement : 15h à 23h30 approx.\nLieu de l’événement : Terrain des loisirs (8\, rue de la Patinoire) \n  \nLa page officielle de l’événement pour l’horaire des festivités : https://sbdl.net/fete-nationale-sbdl/
URL:https://sbdl.net/evenement/11299/
LOCATION:8\, rue de la Patinoire\, 8\, rue de la Patinoire\, Sainte-Brigitte-de-Laval\, Québec\, G0A3K0\, Canada
ORGANIZER;CN="Ville de Sainte-Brigitte-de-Laval":MAILTO:mairie@sbdl.net
END:VEVENT
BEGIN:VEVENT
DTSTART;TZID=America/Toronto:20220629T100000
DTEND;TZID=America/Toronto:20220629T120000
DTSTAMP:20260424T035410
CREATED:20220530T161434Z
LAST-MODIFIED:20220530T163352Z
UID:11431-1656496800-1656504000@sbdl.net
SUMMARY:ANIMATION DE PARC (1 de 5) | Atelier de cirque pour petits et grands
DESCRIPTION:  \nVenez tester vos habiletés tout en découvrant l’univers du cirque avec les animateurs de Flip ToP ! Une activité qui permettra à toute la famille de bouger et de s’émerveiller grâce aux prouesses des animateurs et aux personnages surprises qui seront de passage au parc ce jour-là. Une expérience à ne pas manquer ! \n\n10 h à 11 h mini Flip ToP (0-5 ans)\n11 h à 12 h Flip ToP régulier\n\n\nLes animations de parc auront lieu lors de 5 matinées de l’été\, elles sont gratuites et pour toute la famille : \n\n29 juin : Atelier de cirque pour petits et grands\n13 juillet : Découverte d’animaux exotiques\n20 juillet : Atelier scientifique\n3 août : Atelier de magie\n10 août : Ateliers de danse et de percussions avec Djembé Québec
URL:https://sbdl.net/evenement/animation-de-parc-1-de-5-atelier-de-cirque-pour-petits-et-grands/
LOCATION:Parc des Saphirs\, 175\, rue Kildare\, Sainte-Brigitte-de-Laval\, G0A 3K0
END:VEVENT
END:VCALENDAR