BEGIN:VCALENDAR
VERSION:2.0
PRODID:-//Sainte-Brigitte-de-Laval - ECPv6.15.20//NONSGML v1.0//EN
CALSCALE:GREGORIAN
METHOD:PUBLISH
X-ORIGINAL-URL:https://sbdl.net
X-WR-CALDESC:Événements pour Sainte-Brigitte-de-Laval
REFRESH-INTERVAL;VALUE=DURATION:PT1H
X-Robots-Tag:noindex
X-PUBLISHED-TTL:PT1H
BEGIN:VTIMEZONE
TZID:America/Toronto
BEGIN:DAYLIGHT
TZOFFSETFROM:-0500
TZOFFSETTO:-0400
TZNAME:EDT
DTSTART:20210314T070000
END:DAYLIGHT
BEGIN:STANDARD
TZOFFSETFROM:-0400
TZOFFSETTO:-0500
TZNAME:EST
DTSTART:20211107T060000
END:STANDARD
BEGIN:DAYLIGHT
TZOFFSETFROM:-0500
TZOFFSETTO:-0400
TZNAME:EDT
DTSTART:20220313T070000
END:DAYLIGHT
BEGIN:STANDARD
TZOFFSETFROM:-0400
TZOFFSETTO:-0500
TZNAME:EST
DTSTART:20221106T060000
END:STANDARD
BEGIN:DAYLIGHT
TZOFFSETFROM:-0500
TZOFFSETTO:-0400
TZNAME:EDT
DTSTART:20230312T070000
END:DAYLIGHT
BEGIN:STANDARD
TZOFFSETFROM:-0400
TZOFFSETTO:-0500
TZNAME:EST
DTSTART:20231105T060000
END:STANDARD
END:VTIMEZONE
BEGIN:VEVENT
DTSTART;TZID=America/Toronto:20220708T170000
DTEND;TZID=America/Toronto:20220708T223000
DTSTAMP:20260424T024312
CREATED:20220712T130315Z
LAST-MODIFIED:20220714T123438Z
UID:11624-1657299600-1657319400@sbdl.net
SUMMARY:Animation à l'Espace Festif
DESCRIPTION:Cliquer sur l’image pour mieux lire son contenu\n\n\n\n\n\nPour l’été 2022\, le Service des loisirs\, des sports\, de la culture et vie communautaire a confié la réalisation de ces animations culturelles à l’équipe de Diffusion culturelle SBDL\, puisqu’elles s’inscrivent parfaitement dans leur mission qui est de donner un accès à la culture et à l’art aux gens de Sainte-Brigitte-de-Laval.\n\nLes vendredis de 17 h 00 à 22 h 30\nLes samedis de 14 h 00 à 22 h 30\nRendez-vous à L’espace festif situé au 1\, rue du Couvent (derrière l’église\, à l’extérieur).\nEn cas de pluie\, les activités seront transférées à l’intérieur de l’église.\n\n\n\n\nL’espace festif est un lieu de rassemblement\, de découvertes culturelles\, de collaboration\, de divertissement et de célébration où il fait bon se détendre sous les arbres. Sur place : musique\, culture\, bistro\, nourriture\, aire de feu et jeux. \n\n\n\nTous les détails de chacun de ces événements : https://www.facebook.com/DCSBDL/events
URL:https://sbdl.net/evenement/vendredi-show-les-animaux-fantastiques-les-secrets-du-dumbledore/
LOCATION:Espace Festif\, 1 rue du Couvent\, 1\, rue du Couvent
END:VEVENT
BEGIN:VEVENT
DTSTART;TZID=America/Toronto:20220709T140000
DTEND;TZID=America/Toronto:20220709T223000
DTSTAMP:20260424T024312
CREATED:20220714T123741Z
LAST-MODIFIED:20220714T123848Z
UID:11636-1657375200-1657405800@sbdl.net
SUMMARY:Animation à l'Espace Festif
DESCRIPTION:  \nCliquer sur l’image pour mieux lire son contenu\n\n \n\n\n\nPour l’été 2022\, le Service des loisirs\, des sports\, de la culture et vie communautaire a confié la réalisation de ces animations culturelles à l’équipe de Diffusion culturelle SBDL\, puisqu’elles s’inscrivent parfaitement dans leur mission qui est de donner un accès à la culture et à l’art aux gens de Sainte-Brigitte-de-Laval.\n\n\nLes vendredis de 17 h 00 à 22 h 30\nLes samedis de 14 h 00 à 22 h 30\nRendez-vous à L’espace festif situé au 1\, rue du Couvent (derrière l’église\, à l’extérieur).\nEn cas de pluie\, les activités seront transférées à l’intérieur de l’église.\n\n\n\n\nL’espace festif est un lieu de rassemblement\, de découvertes culturelles\, de collaboration\, de divertissement et de célébration où il fait bon se détendre sous les arbres. Sur place : musique\, culture\, bistro\, nourriture\, aire de feu et jeux. \n\n\n\nTous les détails de chacun de ces événements : https://www.facebook.com/DCSBDL/events\n  \n  \n 
URL:https://sbdl.net/evenement/animation-a-lespace-festif/
LOCATION:Espace Festif\, 1 rue du Couvent\, 1\, rue du Couvent
END:VEVENT
BEGIN:VEVENT
DTSTART;TZID=America/Toronto:20220712T170000
DTEND;TZID=America/Toronto:20220712T223000
DTSTAMP:20260424T024312
CREATED:20220712T130829Z
LAST-MODIFIED:20220712T130829Z
UID:11626-1657645200-1657665000@sbdl.net
SUMMARY:VENDREDI SHOW | Les animaux fantastiques : Les secrets du Dumbledore
DESCRIPTION:  \n\nPour l’été 2022\, le Service des loisirs\, des sports\, de la culture et vie communautaire a confié la réalisation de ces animations culturelles à l’équipe de Diffusion culturelle SBDL\, puisqu’elles s’inscrivent parfaitement dans leur mission qui est de donner un accès à la culture et à l’art aux gens de Sainte-Brigitte-de-Laval.\n\n\n\nLes vendredis « Show » : Tous les vendredis\, de 17 h 00 à 22 h 30\nLes samedis « Cinémas plein air » : Tous les samedis\, de 14 h 00 à 22 h 30\nRendez-vous à L’espace festif situé au 1\, rue du Couvent (derrière l’église\, à l’extérieur).\nEn cas de pluie\, les activités seront transférées à l’intérieur de l’église.\n\n\n\n\n\n\nL’espace festif est un lieu de rassemblement\, de découvertes culturelles\, de collaboration\, de divertissement et de célébration où il fait bon se détendre sous les arbres.\n\n\n\nSur place : musique\, culture\, bistro\, nourriture\, aire de feu et jeux. \n\n\n\n\n\n\nTous les détails de chacun de ces événements : https://www.facebook.com/DCSBDL/events
URL:https://sbdl.net/evenement/vendredi-show-les-animaux-fantastiques-les-secrets-du-dumbledore-2/
LOCATION:Espace Festif\, 1 rue du Couvent\, 1\, rue du Couvent
END:VEVENT
BEGIN:VEVENT
DTSTART;TZID=America/Toronto:20220712T190000
DTEND;TZID=America/Toronto:20220712T200000
DTSTAMP:20260424T024312
CREATED:20220105T160011Z
LAST-MODIFIED:20220711T194405Z
UID:10780-1657652400-1657656000@sbdl.net
SUMMARY:Séance ordinaire du conseil municipal
DESCRIPTION:NOTES IMPORTANTES \n1- La séance du conseil municipal se déroulera en présentiel\, à 19h00\, au bâtiment du parc des Saphirs (175\, rue Kildare). Elle sera également simultanément Webdiffusée en direct. La séance demeurera ensuite disponible pour visionnement en différé sur la chaîne YouTube de la ville. \nLes citoyens voulant assister à la séance doivent respecter les mesures sanitaires suivantes : \n\nSe désinfecter les mains à l’arrivée dans le bâtiment\, à l’aide du gel hydroalcoolique mis à leur disposition;\nNe pas se présenter si l’on présente des symptômes de la COVID ou si on a été en contact avec un cas positif à la COVID.\n\nLa Ville peut exiger de toute personne qui ne respecte pas les mesures sanitaires ou les consignes\, avant ou pendant la séance\, de quitter immédiatement les lieux. \n2- Les citoyens désirant poser leur question à la mairesse ou aux élus peuvent le faire par le biais du formulaire de questions électronique prévu à cet effet. Les élus répondront aux questions qui auront été transmises avant 16 h\, la journée même de la séance. Les questions reçues après 16 h pourraient ne pas recevoir de réponse en séance. Par contre\, elles seront tout de même transmises aux élus après la séance du conseil municipal. \nDocuments de la séance : \n\nOrdre du jour projeté 12 juillet 2022\n\n  \n\n\n\nÀ PROPOS DES SÉANCES DU CONSEIL MUNICIPAL \nLa séance du conseil municipal représente le principal lieu d’exercice de la démocratie municipale.\nNous invitons donc les citoyens à y participer activement : \n\nPour savoir ce qui se passe dans votre ville;\nPour avoir la bonne information et mieux comprendre les orientations;\nPour poser vos questions\, partager votre opinion et vos idées.\n\nLe conseil municipal est composé du maire et de six conseillers représentant chacun un district. De quel district êtes-vous et quel est votre conseiller attitré? \n  \nPOSEZ VOS QUESTIONS ET PARTAGEZ VOS PRÉOCCUPATIONS AU MAIRE ET AUX ÉLUS \nVoici les options s’offrant à vous : \n\nSi vous désirez que votre question soit lue et répondue lors du conseil municipal :\n\nVous devez soumettre votre question via le formulaire qui est mis en ligne à cet effet le vendredi précédant la séance. Consultez les dates des séances du conseil municipal.\n\n\nSi vous NE désirez PAS que votre question soit lue et répondue lors du conseil municipal. Sachez qu’il est toujours possible de contacter les conseillers municipaux ou le maire. Ainsi\, les citoyens désirant questionner les élus ou pour toute question ne nécessitant pas une réponse en séance du conseil\, sont invités :\n\nÀ écrire directement aux élus. Consultez les coordonnées des conseillers municipaux (téléphone et courriel);\nÀ communiquer avec la mairie à mairie@sbdl.net et qui assurera le suivi.\n\n\n\nÀ moins d’avis contraire relativement aux directives gouvernementales liées aux mesures sanitaires\, les séances ordinaires du conseil ont lieu à raison d’au minimum une fois par mois à 19h\, au bâtiment de services du Parc des Saphirs situé au 175\, rue Kildare\, à Sainte-Brigitte-de-Laval. \nNotez à votre agenda les dates des séances du conseil municipal. \n\n\n\n+ Google Agenda+ Ajouter à iCalendar
URL:https://sbdl.net/evenement/seance-ordinaire-du-conseil-municipal-8/
LOCATION:Webdiffusion en direct via la chaîne Youtube de la Ville
ORGANIZER;CN="Ville de Sainte-Brigitte-de-Laval":MAILTO:mairie@sbdl.net
END:VEVENT
BEGIN:VEVENT
DTSTART;TZID=America/Toronto:20220713T100000
DTEND;TZID=America/Toronto:20220713T120000
DTSTAMP:20260424T024312
CREATED:20220530T161822Z
LAST-MODIFIED:20220530T164206Z
UID:11432-1657706400-1657713600@sbdl.net
SUMMARY:ANIMATION DE PARC (2 de 5) | Découverte d'animaux exotiques
DESCRIPTION:  \nLes animateurs d’Éducazoo ne se déplacent pas seuls. Ils sont accompagnés de leurs amis\, les animaux exotiques ! Le 13 juillet\, ils sauront vous faire découvrir plein de nouvelles espèces d’animaux que vous n’êtes pas habitués de voir d’aussi près ! Pour certains\, vous aurez même la chance de les toucher ! Soyez au rendez-vous avec toute la famille ! \n\nLes animations de parc auront lieu lors de 5 matinées de l’été\, elles sont gratuites et pour toute la famille : \n\n29 juin : Atelier de cirque pour petits et grands\n13 juillet : Découverte d’animaux exotiques\n20 juillet : Atelier scientifique\n3 août : Atelier de magie\n10 août : Ateliers de danse et de percussions avec Djembé Québec
URL:https://sbdl.net/evenement/animation-de-parc-2-de-5-decouverte-danimaux-exotiques/
LOCATION:Parc des Mésanges\, 31 rue Richelieu
END:VEVENT
BEGIN:VEVENT
DTSTART;TZID=America/Toronto:20220713T190000
DTEND;TZID=America/Toronto:20220713T200000
DTSTAMP:20260424T024312
CREATED:20220713T145333Z
LAST-MODIFIED:20220713T145333Z
UID:11632-1657738800-1657742400@sbdl.net
SUMMARY:**REPRISE DU 16 AOÛT** Séance ordinaire du conseil municipal
DESCRIPTION:NOTES IMPORTANTES \n1- À moins d’un avis contraire relativement aux directives gouvernementales liées aux mesures sanitaires\, la séance se déroulera à huis clos. Vous serez tenus informés les jours précédant la séance à savoir si elle aura lieu ou non en présentielle simultanément à la Webdiffusion en direct. La séance demeurera ensuite disponible pour visionnement en différé sur la chaîne YouTube de la ville. \n2- Les citoyens désirant poser leur question au maire ou aux élus peuvent le faire par le biais du formulaire de questions électronique prévu à cet effet et qui sera mis en ligne LE VENDREDI PRÉCÉDANT LA SÉANCE. Les élus répondront aux questions qui auront été transmises avant 16 h\, la journée même de la séance. Les questions reçues après 16 h pourraient ne pas recevoir de réponse en séance. Par contre\, elles seront tout de même transmises aux élus après la séance du conseil municipal. \nDocuments de la séance : \n\nOrdre du jour projeté à venir\n\n  \nÀ PROPOS DES SÉANCES DU CONSEIL MUNICIPAL \nLa séance du conseil municipal représente le principal lieu d’exercice de la démocratie municipale.\nNous invitons donc les citoyens à y participer activement : \n\nPour savoir ce qui se passe dans votre ville;\nPour avoir la bonne information et mieux comprendre les orientations;\nPour poser vos questions\, partager votre opinion et vos idées.\n\nLe conseil municipal est composé du maire et de six conseillers représentant chacun un district. De quel district êtes-vous et quel est votre conseiller attitré? \n  \nPOSEZ VOS QUESTIONS ET PARTAGEZ VOS PRÉOCCUPATIONS AU MAIRE ET AUX ÉLUS \nVoici les options s’offrant à vous : \n\nSi vous désirez que votre question soit lue et répondue lors du conseil municipal :\n\nVous devez soumettre votre question via le formulaire qui est mis en ligne à cet effet le vendredi précédant la séance. Consultez les dates des séances du conseil municipal.\n\n\nSi vous NE désirez PAS que votre question soit lue et répondue lors du conseil municipal. Sachez qu’il est toujours possible de contacter les conseillers municipaux ou le maire. Ainsi\, les citoyens désirant questionner les élus ou pour toute question ne nécessitant pas une réponse en séance du conseil\, sont invités :\n\nÀ écrire directement aux élus. Consultez les coordonnées des conseillers municipaux (téléphone et courriel);\nÀ communiquer avec la mairie à mairie@sbdl.net et qui assurera le suivi.\n\n\n\nÀ moins d’avis contraire relativement aux directives gouvernementales liées aux mesures sanitaires\, les séances ordinaires du conseil ont lieu à raison d’au minimum une fois par mois à 19h\, au bâtiment de services du Parc des Saphirs situé au 175\, rue Kildare\, à Sainte-Brigitte-de-Laval. \nNotez à votre agenda les dates des séances du conseil municipal.
URL:https://sbdl.net/evenement/reprise-du-16-aout-seance-ordinaire-du-conseil-municipal/
LOCATION:Bâtiment du Parc des Saphirs\, ou en direct et en différé sur la chaîne Youtube de la Ville\, 175\, rue Kildare\, Sainte-Brigitte-de-Laval\, Québec\, G0A3K0\, Canada
END:VEVENT
BEGIN:VEVENT
DTSTART;TZID=America/Toronto:20220715T170000
DTEND;TZID=America/Toronto:20220715T223000
DTSTAMP:20260424T024312
CREATED:20220714T124020Z
LAST-MODIFIED:20220714T124020Z
UID:11637-1657904400-1657924200@sbdl.net
SUMMARY:Animation à l'Espace Festif
DESCRIPTION:  \nCliquer sur l’image pour mieux lire son contenu\n\n \n\n\n\nPour l’été 2022\, le Service des loisirs\, des sports\, de la culture et vie communautaire a confié la réalisation de ces animations culturelles à l’équipe de Diffusion culturelle SBDL\, puisqu’elles s’inscrivent parfaitement dans leur mission qui est de donner un accès à la culture et à l’art aux gens de Sainte-Brigitte-de-Laval.\n\n\nLes vendredis de 17 h 00 à 22 h 30\nLes samedis de 14 h 00 à 22 h 30\nRendez-vous à L’espace festif situé au 1\, rue du Couvent (derrière l’église\, à l’extérieur).\nEn cas de pluie\, les activités seront transférées à l’intérieur de l’église.\n\n\n\n\nL’espace festif est un lieu de rassemblement\, de découvertes culturelles\, de collaboration\, de divertissement et de célébration où il fait bon se détendre sous les arbres. Sur place : musique\, culture\, bistro\, nourriture\, aire de feu et jeux. \n\n\n\nTous les détails de chacun de ces événements : https://www.facebook.com/DCSBDL/events
URL:https://sbdl.net/evenement/animation-a-lespace-festif-2/
LOCATION:Espace Festif\, 1 rue du Couvent\, 1\, rue du Couvent
END:VEVENT
BEGIN:VEVENT
DTSTART;TZID=America/Toronto:20220716T140000
DTEND;TZID=America/Toronto:20220716T223000
DTSTAMP:20260424T024312
CREATED:20220714T124232Z
LAST-MODIFIED:20220714T124232Z
UID:11639-1657980000-1658010600@sbdl.net
SUMMARY:Animation à l’Espace Festif
DESCRIPTION:  \n\nCliquer sur l’image pour mieux lire son contenu\n\n \n\n\n\nPour l’été 2022\, le Service des loisirs\, des sports\, de la culture et vie communautaire a confié la réalisation de ces animations culturelles à l’équipe de Diffusion culturelle SBDL\, puisqu’elles s’inscrivent parfaitement dans leur mission qui est de donner un accès à la culture et à l’art aux gens de Sainte-Brigitte-de-Laval.\n\n\nLes vendredis de 17 h 00 à 22 h 30\nLes samedis de 14 h 00 à 22 h 30\nRendez-vous à L’espace festif situé au 1\, rue du Couvent (derrière l’église\, à l’extérieur).\nEn cas de pluie\, les activités seront transférées à l’intérieur de l’église.\n\n\n\n\nL’espace festif est un lieu de rassemblement\, de découvertes culturelles\, de collaboration\, de divertissement et de célébration où il fait bon se détendre sous les arbres. Sur place : musique\, culture\, bistro\, nourriture\, aire de feu et jeux. \n\n\n\nTous les détails de chacun de ces événements : https://www.facebook.com/DCSBDL/events\n\n+ Google Agenda+ Ajouter à iCalendar
URL:https://sbdl.net/evenement/animation-a-lespace-festif-3/
LOCATION:Espace Festif\, 1 rue du Couvent\, 1\, rue du Couvent
END:VEVENT
BEGIN:VEVENT
DTSTART;VALUE=DATE:20220719
DTEND;VALUE=DATE:20220720
DTSTAMP:20260424T024312
CREATED:20220627T160024Z
LAST-MODIFIED:20220627T160359Z
UID:11577-1658188800-1658275199@sbdl.net
SUMMARY:Collecte 2 de 3 des encombrants 2022
DESCRIPTION:Pour connaître les matières admissibles et interdites\, consultez le https://sbdl.net/matieres-residuelles/collecte-des-encombrants-monstres/ \nInscrivez-vous à la collecte en remplissant le formulaire en ligne et effectuez votre paiement de 35$ au plus tard le mardi 12 juillet\, soit par : \n– Chèque (dépôt dans la boite postale extérieure de la Mairie); \n– Via votre institution financière (même processus que pour les taxes municipales\, nom de fournisseur : Ville de Sainte-Brigitte-de-Laval – Taxes); \n– En argent comptant ou par débit au comptoir du Service de l’aménagement du territoire\, à la mairie (414\, avenue Sainte-Brigitte). \n  \nPour toute question\, communiquez avec nous au 418 825-2515\, poste 246 ou par courriel à urbanisme@sbdl.net.
URL:https://sbdl.net/evenement/collecte-2-de-3-des-encombrants-2022/
END:VEVENT
BEGIN:VEVENT
DTSTART;TZID=America/Toronto:20220720T100000
DTEND;TZID=America/Toronto:20220720T120000
DTSTAMP:20260424T024312
CREATED:20220530T162150Z
LAST-MODIFIED:20220530T163904Z
UID:11435-1658311200-1658318400@sbdl.net
SUMMARY:ANIMATION DE PARC (3 de 5) | Atelier scientifique
DESCRIPTION:  \n5 stations d’expériences scientifiques sans danger vous attendent lors de cette activité d’initiation à la science. Vous serez amusés et émerveillés par les expériences à réaliser ! Joignez-vous à nous pour une matinée complètement éclatée ! \n\nLes animations de parc auront lieu lors de 5 matinées de l’été\, elles sont gratuites et pour toute la famille : \n\n29 juin : Atelier de cirque pour petits et grands\n13 juillet : Découverte d’animaux exotiques\n20 juillet : Atelier scientifique\n3 août : Atelier de magie\n10 août : Ateliers de danse et de percussions avec Djembé Québec
URL:https://sbdl.net/evenement/animation-de-parc-3-de-5-atelier-scientifique/
LOCATION:Parc de l’école du Trivent 1\, 3\, rue du Couvent
END:VEVENT
BEGIN:VEVENT
DTSTART;TZID=America/Toronto:20220722T170000
DTEND;TZID=America/Toronto:20220722T223000
DTSTAMP:20260424T024312
CREATED:20220714T124410Z
LAST-MODIFIED:20220714T124410Z
UID:11640-1658509200-1658529000@sbdl.net
SUMMARY:Animation à l’Espace Festif
DESCRIPTION:  \n\nCliquer sur l’image pour mieux lire son contenu\n\n \n\n\n\nPour l’été 2022\, le Service des loisirs\, des sports\, de la culture et vie communautaire a confié la réalisation de ces animations culturelles à l’équipe de Diffusion culturelle SBDL\, puisqu’elles s’inscrivent parfaitement dans leur mission qui est de donner un accès à la culture et à l’art aux gens de Sainte-Brigitte-de-Laval.\n\n\nLes vendredis de 17 h 00 à 22 h 30\nLes samedis de 14 h 00 à 22 h 30\nRendez-vous à L’espace festif situé au 1\, rue du Couvent (derrière l’église\, à l’extérieur).\nEn cas de pluie\, les activités seront transférées à l’intérieur de l’église.\n\n\n\n\nL’espace festif est un lieu de rassemblement\, de découvertes culturelles\, de collaboration\, de divertissement et de célébration où il fait bon se détendre sous les arbres. Sur place : musique\, culture\, bistro\, nourriture\, aire de feu et jeux. \n\n\n\nTous les détails de chacun de ces événements : https://www.facebook.com/DCSBDL/events\n\n+ Google Agenda+ Ajouter à iCalendar
URL:https://sbdl.net/evenement/animation-a-lespace-festif-4/
LOCATION:Espace Festif\, 1 rue du Couvent\, 1\, rue du Couvent
END:VEVENT
BEGIN:VEVENT
DTSTART;TZID=America/Toronto:20220723T140000
DTEND;TZID=America/Toronto:20220723T223000
DTSTAMP:20260424T024312
CREATED:20220714T124512Z
LAST-MODIFIED:20220714T124512Z
UID:11642-1658584800-1658615400@sbdl.net
SUMMARY:Animation à l’Espace Festif
DESCRIPTION:  \n\nCliquer sur l’image pour mieux lire son contenu\n\n \n\n\n\nPour l’été 2022\, le Service des loisirs\, des sports\, de la culture et vie communautaire a confié la réalisation de ces animations culturelles à l’équipe de Diffusion culturelle SBDL\, puisqu’elles s’inscrivent parfaitement dans leur mission qui est de donner un accès à la culture et à l’art aux gens de Sainte-Brigitte-de-Laval.\n\n\nLes vendredis de 17 h 00 à 22 h 30\nLes samedis de 14 h 00 à 22 h 30\nRendez-vous à L’espace festif situé au 1\, rue du Couvent (derrière l’église\, à l’extérieur).\nEn cas de pluie\, les activités seront transférées à l’intérieur de l’église.\n\n\n\n\nL’espace festif est un lieu de rassemblement\, de découvertes culturelles\, de collaboration\, de divertissement et de célébration où il fait bon se détendre sous les arbres. Sur place : musique\, culture\, bistro\, nourriture\, aire de feu et jeux. \n\n\n\nTous les détails de chacun de ces événements : https://www.facebook.com/DCSBDL/events\n\n+ Google Agenda+ Ajouter à iCalendar
URL:https://sbdl.net/evenement/animation-a-lespace-festif-5/
LOCATION:Espace Festif\, 1 rue du Couvent\, 1\, rue du Couvent
END:VEVENT
BEGIN:VEVENT
DTSTART;TZID=America/Toronto:20220729T170000
DTEND;TZID=America/Toronto:20220729T223000
DTSTAMP:20260424T024312
CREATED:20220714T124609Z
LAST-MODIFIED:20220714T124609Z
UID:11643-1659114000-1659133800@sbdl.net
SUMMARY:Animation à l’Espace Festif
DESCRIPTION:Cliquer sur l’image pour mieux lire son contenu\n\n \n\n\n\nPour l’été 2022\, le Service des loisirs\, des sports\, de la culture et vie communautaire a confié la réalisation de ces animations culturelles à l’équipe de Diffusion culturelle SBDL\, puisqu’elles s’inscrivent parfaitement dans leur mission qui est de donner un accès à la culture et à l’art aux gens de Sainte-Brigitte-de-Laval.\n\n\nLes vendredis de 17 h 00 à 22 h 30\nLes samedis de 14 h 00 à 22 h 30\nRendez-vous à L’espace festif situé au 1\, rue du Couvent (derrière l’église\, à l’extérieur).\nEn cas de pluie\, les activités seront transférées à l’intérieur de l’église.\n\n\n\n\nL’espace festif est un lieu de rassemblement\, de découvertes culturelles\, de collaboration\, de divertissement et de célébration où il fait bon se détendre sous les arbres. Sur place : musique\, culture\, bistro\, nourriture\, aire de feu et jeux. \n\n\n\nTous les détails de chacun de ces événements : https://www.facebook.com/DCSBDL/events\n 
URL:https://sbdl.net/evenement/animation-a-lespace-festif-6/
LOCATION:Espace Festif\, 1 rue du Couvent\, 1\, rue du Couvent
END:VEVENT
BEGIN:VEVENT
DTSTART;TZID=America/Toronto:20220730T140000
DTEND;TZID=America/Toronto:20220730T223000
DTSTAMP:20260424T024312
CREATED:20220714T124707Z
LAST-MODIFIED:20220714T124707Z
UID:11644-1659189600-1659220200@sbdl.net
SUMMARY:Animation à l’Espace Festif
DESCRIPTION:  \nCliquer sur l’image pour mieux lire son contenu\n\n \n\n\n\nPour l’été 2022\, le Service des loisirs\, des sports\, de la culture et vie communautaire a confié la réalisation de ces animations culturelles à l’équipe de Diffusion culturelle SBDL\, puisqu’elles s’inscrivent parfaitement dans leur mission qui est de donner un accès à la culture et à l’art aux gens de Sainte-Brigitte-de-Laval.\n\n\nLes vendredis de 17 h 00 à 22 h 30\nLes samedis de 14 h 00 à 22 h 30\nRendez-vous à L’espace festif situé au 1\, rue du Couvent (derrière l’église\, à l’extérieur).\nEn cas de pluie\, les activités seront transférées à l’intérieur de l’église.\n\n\n\n\nL’espace festif est un lieu de rassemblement\, de découvertes culturelles\, de collaboration\, de divertissement et de célébration où il fait bon se détendre sous les arbres. Sur place : musique\, culture\, bistro\, nourriture\, aire de feu et jeux. \n\n\n\nTous les détails de chacun de ces événements : https://www.facebook.com/DCSBDL/events
URL:https://sbdl.net/evenement/animation-a-lespace-festif-7/
LOCATION:Espace Festif\, 1 rue du Couvent\, 1\, rue du Couvent
END:VEVENT
END:VCALENDAR