BEGIN:VCALENDAR
VERSION:2.0
PRODID:-//Sainte-Brigitte-de-Laval - ECPv6.15.20//NONSGML v1.0//EN
CALSCALE:GREGORIAN
METHOD:PUBLISH
X-ORIGINAL-URL:https://sbdl.net
X-WR-CALDESC:Événements pour Sainte-Brigitte-de-Laval
REFRESH-INTERVAL;VALUE=DURATION:PT1H
X-Robots-Tag:noindex
X-PUBLISHED-TTL:PT1H
BEGIN:VTIMEZONE
TZID:America/Toronto
BEGIN:DAYLIGHT
TZOFFSETFROM:-0500
TZOFFSETTO:-0400
TZNAME:EDT
DTSTART:20210314T070000
END:DAYLIGHT
BEGIN:STANDARD
TZOFFSETFROM:-0400
TZOFFSETTO:-0500
TZNAME:EST
DTSTART:20211107T060000
END:STANDARD
BEGIN:DAYLIGHT
TZOFFSETFROM:-0500
TZOFFSETTO:-0400
TZNAME:EDT
DTSTART:20220313T070000
END:DAYLIGHT
BEGIN:STANDARD
TZOFFSETFROM:-0400
TZOFFSETTO:-0500
TZNAME:EST
DTSTART:20221106T060000
END:STANDARD
BEGIN:DAYLIGHT
TZOFFSETFROM:-0500
TZOFFSETTO:-0400
TZNAME:EDT
DTSTART:20230312T070000
END:DAYLIGHT
BEGIN:STANDARD
TZOFFSETFROM:-0400
TZOFFSETTO:-0500
TZNAME:EST
DTSTART:20231105T060000
END:STANDARD
END:VTIMEZONE
BEGIN:VEVENT
DTSTART;TZID=America/Toronto:20220902T170000
DTEND;TZID=America/Toronto:20220902T223000
DTSTAMP:20260423T233341
CREATED:20220714T125701Z
LAST-MODIFIED:20220714T125701Z
UID:11655-1662138000-1662157800@sbdl.net
SUMMARY:Animation à l’Espace Festif
DESCRIPTION:  \nCliquer sur l’image pour mieux lire son contenu\n\n \n\n\n\nPour l’été 2022\, le Service des loisirs\, des sports\, de la culture et vie communautaire a confié la réalisation de ces animations culturelles à l’équipe de Diffusion culturelle SBDL\, puisqu’elles s’inscrivent parfaitement dans leur mission qui est de donner un accès à la culture et à l’art aux gens de Sainte-Brigitte-de-Laval.\n\n\nLes vendredis de 17 h 00 à 22 h 30\nLes samedis de 14 h 00 à 22 h 30\nRendez-vous à L’espace festif situé au 1\, rue du Couvent (derrière l’église\, à l’extérieur).\nEn cas de pluie\, les activités seront transférées à l’intérieur de l’église.\n\n\n\n\nL’espace festif est un lieu de rassemblement\, de découvertes culturelles\, de collaboration\, de divertissement et de célébration où il fait bon se détendre sous les arbres. Sur place : musique\, culture\, bistro\, nourriture\, aire de feu et jeux. \n\n\n\nTous les détails de chacun de ces événements : https://www.facebook.com/DCSBDL/events
URL:https://sbdl.net/evenement/animation-a-lespace-festif-17/
LOCATION:Espace Festif\, 1 rue du Couvent\, 1\, rue du Couvent
END:VEVENT
BEGIN:VEVENT
DTSTART;TZID=America/Toronto:20220903T140000
DTEND;TZID=America/Toronto:20220903T223000
DTSTAMP:20260423T233341
CREATED:20220714T125749Z
LAST-MODIFIED:20220714T125749Z
UID:11656-1662213600-1662244200@sbdl.net
SUMMARY:Animation à l’Espace Festif
DESCRIPTION:  \nCliquer sur l’image pour mieux lire son contenu\n\n \n\n\n\nPour l’été 2022\, le Service des loisirs\, des sports\, de la culture et vie communautaire a confié la réalisation de ces animations culturelles à l’équipe de Diffusion culturelle SBDL\, puisqu’elles s’inscrivent parfaitement dans leur mission qui est de donner un accès à la culture et à l’art aux gens de Sainte-Brigitte-de-Laval.\n\n\nLes vendredis de 17 h 00 à 22 h 30\nLes samedis de 14 h 00 à 22 h 30\nRendez-vous à L’espace festif situé au 1\, rue du Couvent (derrière l’église\, à l’extérieur).\nEn cas de pluie\, les activités seront transférées à l’intérieur de l’église.\n\n\n\n\nL’espace festif est un lieu de rassemblement\, de découvertes culturelles\, de collaboration\, de divertissement et de célébration où il fait bon se détendre sous les arbres. Sur place : musique\, culture\, bistro\, nourriture\, aire de feu et jeux. \n\n\n\nTous les détails de chacun de ces événements : https://www.facebook.com/DCSBDL/events
URL:https://sbdl.net/evenement/animation-a-lespace-festif-18/
LOCATION:Espace Festif\, 1 rue du Couvent\, 1\, rue du Couvent
END:VEVENT
BEGIN:VEVENT
DTSTART;TZID=America/Toronto:20220909T170000
DTEND;TZID=America/Toronto:20220909T223000
DTSTAMP:20260423T233341
CREATED:20220714T130002Z
LAST-MODIFIED:20220714T130002Z
UID:11657-1662742800-1662762600@sbdl.net
SUMMARY:Animation à l'Espace Festif | Weekend Skateboard-films-musique
DESCRIPTION:  \nCliquer sur l’image pour mieux lire son contenu\n\n\n\nPour l’été 2022\, le Service des loisirs\, des sports\, de la culture et vie communautaire a confié la réalisation de ces animations culturelles à l’équipe de Diffusion culturelle SBDL\, puisqu’elles s’inscrivent parfaitement dans leur mission qui est de donner un accès à la culture et à l’art aux gens de Sainte-Brigitte-de-Laval.\nRendez-vous à L’espace festif situé au 1\, rue du Couvent (derrière l’église\, à l’extérieur) \n\nL’espace festif est un lieu de rassemblement\, de découvertes culturelles\, de collaboration\, de divertissement et de célébration où il fait bon se détendre sous les arbres. Sur place : musique\, culture\, bistro\, nourriture\, aire de feu et jeux. \n\n\n\nTous les détails des événements : https://www.facebook.com/DCSBDL/events
URL:https://sbdl.net/evenement/animation-a-lespace-festif-weekend-skateboard-films-musique/
LOCATION:Espace Festif\, 1 rue du Couvent\, 1\, rue du Couvent
END:VEVENT
BEGIN:VEVENT
DTSTART;VALUE=DATE:20220910
DTEND;VALUE=DATE:20220911
DTSTAMP:20260423T233341
CREATED:20220714T130119Z
LAST-MODIFIED:20220714T130325Z
UID:11659-1662768000-1662854399@sbdl.net
SUMMARY:Animation à l'Espace Festif | Weekend Skateboard-films-musique
DESCRIPTION:  \nCliquer sur l’image pour mieux lire son contenu\n\n\nPour l’été 2022\, le Service des loisirs\, des sports\, de la culture et vie communautaire a confié la réalisation de ces animations culturelles à l’équipe de Diffusion culturelle SBDL\, puisqu’elles s’inscrivent parfaitement dans leur mission qui est de donner un accès à la culture et à l’art aux gens de Sainte-Brigitte-de-Laval.\nRendez-vous à L’espace festif situé au 1\, rue du Couvent (derrière l’église\, à l’extérieur) \n\n\nL’espace festif est un lieu de rassemblement\, de découvertes culturelles\, de collaboration\, de divertissement et de célébration où il fait bon se détendre sous les arbres. Sur place : musique\, culture\, bistro\, nourriture\, aire de feu et jeux. \n\n\n\nTous les détails des événements : https://www.facebook.com/DCSBDL/events
URL:https://sbdl.net/evenement/animation-a-lespace-festif-weekend-skateboard-films-musique-2/
LOCATION:Espace Festif\, 1 rue du Couvent\, 1\, rue du Couvent
END:VEVENT
BEGIN:VEVENT
DTSTART;VALUE=DATE:20220911
DTEND;VALUE=DATE:20220918
DTSTAMP:20260423T233341
CREATED:20220901T193343Z
LAST-MODIFIED:20220909T124910Z
UID:11756-1662854400-1663459199@sbdl.net
SUMMARY:Semaine de la Municipalité 2022
DESCRIPTION:Chaque année\, dans la deuxième semaine du mois de septembre\, la Ville de Sainte-Brigitte-de-Laval souligne la Semaine de la municipalité qui vise à sensibiliser la population à l’importance de l’engagement citoyen et à son impact sur le développement et la vitalité de la ville\, en plus de mieux faire connaître les nombreux services et attraits au sein de la ville. Tous les citoyens sont donc vivement invités à participer aux différentes activités organisées. L’occasion est aussi parfaite pour faire la rencontre d’autres citoyens et de vous approprier un peu plus votre ville!  \nSoyez toutefois attentifs\, car quelques activités sont réservées à certaines clientèles et d’autres demandent de s’inscrire préalablement. \n\nDIMANCHE 11 SEPTEMBRE\nActivité d’accueil des nouveaux résidents de la ville de Sainte-Brigitte-de-Laval \nCette semaine étant tout indiquée pour souligner par la même occasion l’arrivée\, au cours de la dernière année\, des nouveaux résidents dans notre ville\, cette activité a été conçue pour eux afin de leur souhaiter officiellement la plus chaleureuse des bienvenues au sein de notre ville! \nOrganisateur : Ville de Sainte-Brigitte-de-Laval\nQui : Invitation à tous les citoyens et aux nouveaux résidents! (voir les détails de l’horaire ici-bas)\nQuand : Dimanche 11 septembre\, 10 h 00 à midi\nOù : Parc des Saphirs (175 Rue Kildare)\nInscription : Places limitées! Réservez rapidement votre siège à la visite guidée en transmettant votre nom complet et numéro de téléphone par courriel à communications@sbdl.net\nComment: \n\nVisite guidée du territoire de la ville en autobus (ouvert à tous\, inscription obligatoire)\nDécouvrez les principaux quartiers\, attraits touristiques\, parcs et espaces verts\, organismes locaux\, bâtiments municipaux de la ville\n20 places disponibles : réservez votre siège en transmettant votre nom complet et numéro de téléphone par courriel à communications@sbdl.net\nMerci d’arriver au bâtiment du parc des Saphirs pour 9h45\n\nLUNDI 12 SEPTEMBRE\nActivité porte-ouverte\nOrganisateur : Matinée Frimousses\nQui : Invitation aux parents et à leurs jeunes enfants de 0 à 5 ans\nQuand : Lundi 12 septembre\, 9 h à 11 h\nOù : 7\, rue de la Patinoire\nInscription : Sans inscription préalable \n\nGymnastique Vie Active\nOrganisateur : Club de l’âge d’or de Sainte-Brigitte-de-Laval.\nQui : Invitation à tous!\nQuand : Lundi 12 septembre\, 9 h 30 à 11 h\nOù : Salle des miroirs\, au Parc des Saphirs (175 Rue Kildare)\nÉquipement : Habillement sport\, espadrilles\, bouteille d’eau\nInscription : Contactez Cathy Barrette par courriel à cathy.barrette@outlook.com \n\n\nMatch amical de soccer\nOrganisateur : Club de soccer SBDL\nQui : Invitation aux 8 ans et plus\nQuand : Lundi 12 septembre\, 18 h à 21 h\nOù : Terrain synthétique Parc des Saphirs (175 Rue Kildare)\nÉquipement : Habillement sport\, souliers à crampons (pas obligatoire) ou espadrilles\, protège tibias (pas obligatoire)\, bouteille d’eau\nInscription : Veuillez transmettre votre nom complet\, âge et numéro de téléphone par courriel à info@soccersbdl.com\nHoraire : Le Club espère former une équipe féminine et masculine dans chacune des catégories suivantes. Un minimum de 10 participants par groupe est requis pour permettre à chacun des matchs d’avoir lieu : \n\nCatégorie 8-12 ans : 18 h à 18 h 45\nCatégorie 13-17 ans : 18 h 45 à 19 h 30\nAdultes : 19 h 30 à 21 h\n\n\nMARDI 13 SEPTEMBRE\nÉpluchette de blé d’inde\nOrganisateur : Club de l’âge d’or de Sainte-Brigitte-de-Laval.\nQui : Invitation à tous!\nQuand : Mardi 13 septembre\, 11 h 30 à 15 h 30\nOù : Dans l’église (1\, rue du Couvent)\nInscription : Inscrivez-vous auprès de Diane Fortier (418-825-0042) ou Lilianne Lacroix (418-825-1527) au coût de 7 $ (membres) et 12 $ (non-membres) \n\nSéance du conseil municipal de la ville de Sainte-Brigitte-de-Laval \nPrincipal lieu d’exercice de la démocratie municipale\, la Ville invite tous ses citoyens à prendre part à une première séance du conseil municipal. Gâteau et café seront servis pour l’occasion. \nOrganisateur : Ville de Sainte-Brigitte-de-Laval\nQui : Invitation à tous!\nQuand : Mardi 13 septembre\, 18 h 00\nOù : Parc des Saphirs (175 Rue Kildare)\nComment : Gâteau et café seront servis pour l’occasion. Consultez les détails de la séance (ordre du jour\, formulaire de question\, etc.) à ce lien : https://sbdl.net/evenement/seance-ordinaire-du-conseil-municipal-10/\nHoraire : \n\n18 h : Accueil\, gâteau et café\n19 h : Début de la séance du conseil municipal\n\nMERCREDI 14 SEPTEMBRE\nInauguration du Sentier des Dunes\nOrganisateur : Ville de Sainte-Brigitte-de-Laval\nQui : Invitation à tous!\nQuand : Mercredi 14 septembre\, 9 h 30 à 11 h\nOù : Sentier des Dunes (30\, rue des Dunes)\nHoraire : \n\n9 h 30 : Inauguration officielle\n10 h à 11 h : Découverte du sentier des Dunes sur une base volontaire\n\nComment : \n\nL’inauguration se déroulera à l’extérieur\, devant l’enseigne du sentier des Dunes\nL’audience sera debout\, mais 10-20 places assises seront réservées aux personnes en ressentant le besoin\nEn cas de pluie l’événement se déroulera quand même\n\n\nPétanque en plein air\nOrganisateur : Club de l’âge d’or de Sainte-Brigitte-de-Laval.\nQui : Invitation à tous! \nQuand : Mercredi 14 septembre\, 18 h 45 à 22 h\nOù : Aux courts de pétanque situés (4\, rue de la Patinoire)\nInscription : Inscrivez-vous auprès de Paul-Henri Fortier (418-825-2031)\nComment : Apportez votre set de boules. Les responsables vous expliqueront sur place les pratiques à adopter. \nJEUDI 15 SEPTEMBRE\nTable ronde de la jeunesse avec la mairesse et son équipe d’élus municipaux\nC’est dans le cadre de la « Journée internationale de la démocratie » que la mairesse et son équipe d’élus municipaux invite les adolescents à se joindre à eux afin d’échanger dans un esprit d’ouverture sur leurs préoccupations\, leur expérience de vie dans leur ville ainsi que leurs besoins et attentes. \nOrganisateur : Ville de Sainte-Brigitte-de-Laval\, en collaboration avec l’équipe d’élus municipaux et la Maison des jeunes La Barak\nQui : Invitation aux 12 à 17 ans\nQuand : Jeudi 15 septembre\, 18 h 30\nOù : Maison des jeunes La Barak (7 rue de la Patinoire) \nVENDREDI 16 SEPTEMBRE\n« Viens expérimenter un métier à la Ville! » avec les élèves de la 6e année\nOrganisateur : Ville de Sainte-Brigitte-de-Laval\, en collaboration avec les enseignantes de la 6e année de l’École du Trivent\nQui : Invitation aux élèves de la 6e année de l’École du Trivent II\nQuand : Vendredi 16 septembre\, 8 h 15 à 10 h 30\nOù : Dans les différents bâtiments municipaux de la Ville\nComment : \n\nFormation d’équipes de 2 élèves par carrière pour un maximum de 14 élèves\nImmersion de 2 heures avec un employé de la Ville (horaire à venir)\nCarrières visées par les jumelages :\n\nHorticulteur (Aménagement\, entretien et travaux d’horticulture dans les parcs et espaces verts de la Ville)\nOpérateur de machinerie lourde (Conduire et opérer la machinerie d’opération de déneigement ainsi que les véhicules du service des travaux publics)\nTechnicien en traitement des eaux (Inspection\, opération et entretien régulier des équipements de traitement et de transport de l’eau potable conformément aux règlements et lois en vigueur)\nMécanicien (Réparation et entretien des véhicules\, de la machinerie lourde et des équipements légers de la Ville)\nPompier et premier répondant (Répondre aux interventions d’urgence de toute nature et d’assurer l’entretien de la caserne et des équipements)\nInspecteur en environnement (Sensibiliser les citoyens à adopter de meilleures pratiques environnementales sur leur propriété et une meilleure gestion de leurs matières résiduelles en plus de faire des inspections sur le territoire afin de valider la conformité de la réglementation municipale et des lois en vigueur en matière d’environnement)\nInspecteur en aménagement du territoire (Effectuer des inspections sur le territoire afin de valider la conformité de la réglementation municipale et des lois en vigueur en matière d’urbanisme\, tel que construction neuve\, rénovation\, installation de piscine\, usages complémentaires\, etc.)\n\n\n\n\nDévoilement de la Politique de la famille et des aînés (PFA)\nOrganisateur : Ville de Sainte-Brigitte-de-Laval\nQuand : Vendredi 16 septembre\nOù : Sur les différentes plateformes de communication de la Ville : \n\nPage Facebook de la Ville\nL’actualité de Voilà!\nL’actualité du site Web de la Ville\n\nSAMEDI 17 SEPTEMBRE\nActivité familiale « remerciement et reconnaissance des employés » de la Ville\nCette activité se tient annuellement afin de reconnaître l’apport exceptionnel de ses employés\, au service des citoyens\, et le soutien de leur famille. Les départs à la retraite sont également soulignés lors de cette occasion. \nOrganisateur : Ville de Sainte-Brigitte-de-Laval\nQui : Employés de la Ville et leur famille\nQuand : Samedi 17 septembre\, 12 h à 15 h\nOù : Parc des Saphirs (175 Rue Kildare)\nComment : L’événement est exclusivement réservé aux employés de la Ville et aux membres de leur famille invités.
URL:https://sbdl.net/evenement/semaine-de-la-municipalite-11-au-17-septembre-2022/
ORGANIZER;CN="Ville de Sainte-Brigitte-de-Laval":MAILTO:mairie@sbdl.net
END:VEVENT
BEGIN:VEVENT
DTSTART;VALUE=DATE:20220913
DTEND;VALUE=DATE:20220914
DTSTAMP:20260423T233341
CREATED:20220627T155843Z
LAST-MODIFIED:20220627T155934Z
UID:11576-1663027200-1663113599@sbdl.net
SUMMARY:Collecte 3 de 3 des encombrants 2022
DESCRIPTION:Pour connaître les matières admissibles et interdites\, consultez le https://sbdl.net/matieres-residuelles/collecte-des-encombrants-monstres/ \nInscrivez-vous à la collecte en remplissant le formulaire en ligne et effectuez votre paiement de 35$ au plus tard le mardi 6 septembre\, soit par : \n– Chèque (dépôt dans la boite postale extérieure de la Mairie); \n– Via votre institution financière (même processus que pour les taxes municipales\, nom de fournisseur : Ville de Sainte-Brigitte-de-Laval – Taxes); \n– En argent comptant ou par débit au comptoir du Service de l’aménagement du territoire\, à la mairie (414\, avenue Sainte-Brigitte). \n  \nPour toute question\, communiquez avec nous au 418 825-2515\, poste 246 ou par courriel à urbanisme@sbdl.net.
URL:https://sbdl.net/evenement/collecte-3-de-3-des-encombrants-2022/
ORGANIZER;CN="Ville de Sainte-Brigitte-de-Laval":MAILTO:mairie@sbdl.net
END:VEVENT
BEGIN:VEVENT
DTSTART;TZID=America/Toronto:20220913T180000
DTEND;TZID=America/Toronto:20220913T200000
DTSTAMP:20260423T233341
CREATED:20220105T160315Z
LAST-MODIFIED:20220913T121406Z
UID:10782-1663092000-1663099200@sbdl.net
SUMMARY:Séance ordinaire du conseil municipal ***Semaine de la municipalité***
DESCRIPTION:NOTES IMPORTANTES \n1- La séance du conseil municipal se déroulera en présentiel\, à 19h00\, au bâtiment du parc des Saphirs (175\, rue Kildare). Elle sera également simultanément Webdiffusée en direct. La séance demeurera ensuite disponible pour visionnement en différé sur la chaîne YouTube de la ville. \nLes citoyens voulant assister à la séance doivent respecter les mesures sanitaires suivantes : \n\nSe désinfecter les mains à l’arrivée dans le bâtiment\, à l’aide du gel hydroalcoolique mis à leur disposition;\nNe pas se présenter si l’on présente des symptômes de la COVID ou si on a été en contact avec un cas positif à la COVID.\n\nLa Ville peut exiger de toute personne qui ne respecte pas les mesures sanitaires ou les consignes\, avant ou pendant la séance\, de quitter immédiatement les lieux. \n2- Les citoyens désirant poser leur question à la mairesse ou aux élus peuvent le faire par le biais du formulaire de questions électronique prévu à cet effet. Les élus répondront aux questions qui auront été transmises avant 16 h\, la journée même de la séance. Les questions reçues après 16 h pourraient ne pas recevoir de réponse en séance. Par contre\, elles seront tout de même transmises aux élus après la séance du conseil municipal. \nDocuments de la séance : \n\nOrdre du jour projeté\n\n*** Semaine de la Municipalité ***\nDans le cadre de la Semaine de la municipalité\, du 11 au 17 septembre\, la Ville invite tous les citoyens à prendre part à une première séance du conseil municipal. Gâteau et café seront servis pour l’occasion.\n\n \n\n\n\nÀ PROPOS DES SÉANCES DU CONSEIL MUNICIPAL \nLa séance du conseil municipal représente le principal lieu d’exercice de la démocratie municipale.\nNous invitons donc les citoyens à y participer activement : \n\nPour savoir ce qui se passe dans votre ville;\nPour avoir la bonne information et mieux comprendre les orientations;\nPour poser vos questions\, partager votre opinion et vos idées.\n\nLe conseil municipal est composé du maire et de six conseillers représentant chacun un district. De quel district êtes-vous et quel est votre conseiller attitré? \n  \nPOSEZ VOS QUESTIONS ET PARTAGEZ VOS PRÉOCCUPATIONS AU MAIRE ET AUX ÉLUS \nVoici les options s’offrant à vous : \n\nSi vous désirez que votre question soit lue et répondue lors du conseil municipal :\n\nVous devez soumettre votre question via le formulaire qui est mis en ligne à cet effet le vendredi précédant la séance. Consultez les dates des séances du conseil municipal.\n\n\nSi vous NE désirez PAS que votre question soit lue et répondue lors du conseil municipal. Sachez qu’il est toujours possible de contacter les conseillers municipaux ou le maire. Ainsi\, les citoyens désirant questionner les élus ou pour toute question ne nécessitant pas une réponse en séance du conseil\, sont invités :\n\nÀ écrire directement aux élus. Consultez les coordonnées des conseillers municipaux (téléphone et courriel);\nÀ communiquer avec la mairie à mairie@sbdl.net et qui assurera le suivi.\n\n\n\nÀ moins d’avis contraire relativement aux directives gouvernementales liées aux mesures sanitaires\, les séances ordinaires du conseil ont lieu à raison d’au minimum une fois par mois à 19h\, au bâtiment de services du Parc des Saphirs situé au 175\, rue Kildare\, à Sainte-Brigitte-de-Laval. \nNotez à votre agenda les dates des séances du conseil municipal. \n\n\n\n+ Google Agenda+ Ajouter à iCalendar
URL:https://sbdl.net/evenement/seance-ordinaire-du-conseil-municipal-10/
LOCATION:Webdiffusion en direct via la chaîne Youtube de la Ville
END:VEVENT
BEGIN:VEVENT
DTSTART;VALUE=DATE:20220923
DTEND;VALUE=DATE:20220926
DTSTAMP:20260423T233341
CREATED:20220530T154648Z
LAST-MODIFIED:20220923T160739Z
UID:11426-1663891200-1664150399@sbdl.net
SUMMARY:LA FÊTE DES MONTAGNES | 23\, 24 et 25 septembre 2022
DESCRIPTION:Une fois de plus\, la Ville s’associe à Diffusion culturelle SBDL pour célébrer la nature qui nous entoure et la culture qui nous unit! \nDu même coup\, cet événement annuel pensé par votre Ville permet de mettre en lumière les initiatives automnales du milieu qui mettent en valeur la beauté de nos montagnes! \nAjouter l’événement à mon calendrier \n\nVendredi 23 septembre 2022\nSoirée d’ouverture avec groupes de musique locaux à l’Espace festif!   \n\n19 h 00 : Ben & Frank (folk festif)\n20 h 30 : Station Wagon (rock)\n\n\nSamedi 24 septembre 2022\nActivité d’ouverture du Sentier des Dunes avec Action Sentiers Lavallois (ASL) \n\n10 h à 15 h : Activités organisées par ASL\, parmi celles-ci\, voici celles offertes gracieusement par la Fête des montagnes\, initiée par la Ville de Sainte-Brigitte-de-Laval :\n\n11 h à 12 h 30 : Présence de la mascotte Panachou\n13 h à 15 h : Prestation acoustique d’Alain Tremblay en duo\n13 h à 14 h 45 : Contes et légendes en bordure de la rivière Montmorency avec 1001 secrets de la nature (3 représentations de 20 minutes)\nSuivez la page Facebook pour les détails à venir : https://www.facebook.com/groups/1409440445976501\n\n\n\nActivités à la bibliothèque  \n\n9 h 30 à 14 h 30 : Rendez-nous visite et gagnez une collection de livres variés!\n***REPORTÉE À UNE DATE ULTÉRIEURE*** 15 h à 16 h : Rencontre de l’autrice et atelier d’écriture avec Alexandra Larochelle\n\n5 à 7 à l’Espace festif! \n\n18 h à 19 h : Spectacle avec Les Babalooney’s (surf dansant rock’n’roll)\n\n \nFestival de la lanterne au parc Richelieu \n\n18 h 30 à 21 h 30 : Initiative citoyenne! Et en boni un parcours de contes animé par 6 personnages mythologiques offert gracieusement par la Fête des montagnes\, initiée par la Ville de Sainte-Brigitte-de-Laval. Venez y rencontrer le Gnome dans sa yourte\, la Fée de l’automne\, Fenrir l’homme loup\, un druide\, le Satyre et l’Homme-rat. Certains d’entre eux étaient présents l’an dernier et ont bien hâte de vous raconter de nouvelles histoires!\nSuivez ce lien pour tous les détails de l’événement et ce lien pour participer au concours « Fabrication de lanternes »\, 50$ à gagner!\n\n \nSoirée karaoké sur mesure à l’Espace Festif \n\n21 h à 22 h 30 : Fournissez-nous à l’avance vos choix de chansons! Survez ce lien pour déposer vos choix musicaux (dans les commentaires) et brûler les planches lors de cette soirée où vous serez LA vedette! : https://www.facebook.com/events/602948544707424\n\nTitre de la chanson\nL’artiste interprète\nNom du participant au Karaoké\n\n\n\n\nDimanche 25 septembre 2022\nDéfi familial des Hautes-Terres \n\nDéparts à 9 h et 9 h 45 : Profitez-en pour emplir vos poumons d’air frais\, régaler vos pupilles de paysages à couper le souffle et pour propager votre passion! Vous ne courez pas? Venez encourager les coureurs!\nTous les détails à ce lien : https://crdht.com/defi-familial-des-hautes-terres/ 
URL:https://sbdl.net/evenement/fete-des-montagnes-2022/
ORGANIZER;CN="Ville de Sainte-Brigitte-de-Laval":MAILTO:mairie@sbdl.net
END:VEVENT
END:VCALENDAR