BEGIN:VCALENDAR
VERSION:2.0
PRODID:-//Sainte-Brigitte-de-Laval - ECPv6.15.20//NONSGML v1.0//EN
CALSCALE:GREGORIAN
METHOD:PUBLISH
X-WR-CALNAME:Sainte-Brigitte-de-Laval
X-ORIGINAL-URL:https://sbdl.net
X-WR-CALDESC:Événements pour Sainte-Brigitte-de-Laval
REFRESH-INTERVAL;VALUE=DURATION:PT1H
X-Robots-Tag:noindex
X-PUBLISHED-TTL:PT1H
BEGIN:VTIMEZONE
TZID:America/Toronto
BEGIN:DAYLIGHT
TZOFFSETFROM:-0500
TZOFFSETTO:-0400
TZNAME:EDT
DTSTART:20210314T070000
END:DAYLIGHT
BEGIN:STANDARD
TZOFFSETFROM:-0400
TZOFFSETTO:-0500
TZNAME:EST
DTSTART:20211107T060000
END:STANDARD
BEGIN:DAYLIGHT
TZOFFSETFROM:-0500
TZOFFSETTO:-0400
TZNAME:EDT
DTSTART:20220313T070000
END:DAYLIGHT
BEGIN:STANDARD
TZOFFSETFROM:-0400
TZOFFSETTO:-0500
TZNAME:EST
DTSTART:20221106T060000
END:STANDARD
BEGIN:DAYLIGHT
TZOFFSETFROM:-0500
TZOFFSETTO:-0400
TZNAME:EDT
DTSTART:20230312T070000
END:DAYLIGHT
BEGIN:STANDARD
TZOFFSETFROM:-0400
TZOFFSETTO:-0500
TZNAME:EST
DTSTART:20231105T060000
END:STANDARD
END:VTIMEZONE
BEGIN:VEVENT
DTSTART;TZID=America/Toronto:20221011T190000
DTEND;TZID=America/Toronto:20221011T200000
DTSTAMP:20260423T220405
CREATED:20220105T160440Z
LAST-MODIFIED:20221011T111614Z
UID:10783-1665514800-1665518400@sbdl.net
SUMMARY:Séance ordinaire du conseil municipal
DESCRIPTION:NOTES IMPORTANTES \nLa séance du conseil municipal se déroulera en présentiel\, à 19h00\, au bâtiment du parc des Saphirs (175\, rue Kildare). Elle sera également simultanément Webdiffusée en direct. La séance demeurera ensuite disponible pour visionnement en différé sur la chaîne YouTube de la ville. \nLes citoyens voulant assister à la séance doivent respecter les mesures sanitaires suivantes : \n\nSe désinfecter les mains à l’arrivée dans le bâtiment\, à l’aide du gel hydroalcoolique mis à leur disposition;\nNe pas se présenter si l’on présente des symptômes de la COVID ou si on a été en contact avec un cas positif à la COVID.\n\nLa Ville peut exiger de toute personne qui ne respecte pas les mesures sanitaires ou les consignes\, avant ou pendant la séance\, de quitter immédiatement les lieux. \nLes citoyens désirant poser leur question à la mairesse ou aux élus peuvent le faire par le biais du formulaire de questions électronique prévu à cet effet. Les élus répondront aux questions qui auront été transmises avant 16 h\, la journée même de la séance. Les questions reçues après 16 h pourraient ne pas recevoir de réponse en séance. Par contre\, elles seront tout de même transmises aux élus après la séance du conseil municipal. \nDocuments de la séance : \n\nOrdre du jour projeté\n\n  \n\n\n\nÀ PROPOS DES SÉANCES DU CONSEIL MUNICIPAL \nLa séance du conseil municipal représente le principal lieu d’exercice de la démocratie municipale.\nNous invitons donc les citoyens à y participer activement : \n\nPour savoir ce qui se passe dans votre ville;\nPour avoir la bonne information et mieux comprendre les orientations;\nPour poser vos questions\, partager votre opinion et vos idées.\n\nLe conseil municipal est composé du maire et de six conseillers représentant chacun un district. De quel district êtes-vous et quel est votre conseiller attitré? \n  \nPOSEZ VOS QUESTIONS ET PARTAGEZ VOS PRÉOCCUPATIONS AU MAIRE ET AUX ÉLUS \nVoici les options s’offrant à vous : \n\nSi vous désirez que votre question soit lue et répondue lors du conseil municipal :\n\nVous devez soumettre votre question via le formulaire qui est mis en ligne à cet effet le vendredi précédant la séance. Consultez les dates des séances du conseil municipal.\n\n\nSi vous NE désirez PAS que votre question soit lue et répondue lors du conseil municipal. Sachez qu’il est toujours possible de contacter les conseillers municipaux ou le maire. Ainsi\, les citoyens désirant questionner les élus ou pour toute question ne nécessitant pas une réponse en séance du conseil\, sont invités :\n\nÀ écrire directement aux élus. Consultez les coordonnées des conseillers municipaux (téléphone et courriel);\nÀ communiquer avec la mairie à mairie@sbdl.net et qui assurera le suivi.\n\n\n\nÀ moins d’avis contraire relativement aux directives gouvernementales liées aux mesures sanitaires\, les séances ordinaires du conseil ont lieu à raison d’au minimum une fois par mois à 19h\, au bâtiment de services du Parc des Saphirs situé au 175\, rue Kildare\, à Sainte-Brigitte-de-Laval. \nNotez à votre agenda les dates des séances du conseil municipal. \n\n\n\n+ Google Agenda+ Ajouter à iCalendar
URL:https://sbdl.net/evenement/seance-ordinaire-du-conseil-municipal-11/
LOCATION:Webdiffusion en direct via la chaîne Youtube de la Ville
ORGANIZER;CN="Ville de Sainte-Brigitte-de-Laval":MAILTO:mairie@sbdl.net
END:VEVENT
BEGIN:VEVENT
DTSTART;TZID=America/Toronto:20221025T190000
DTEND;TZID=America/Toronto:20221025T200000
DTSTAMP:20260423T220405
CREATED:20220105T160609Z
LAST-MODIFIED:20221025T125257Z
UID:10784-1666724400-1666728000@sbdl.net
SUMMARY:Séance ordinaire du conseil municipal
DESCRIPTION:NOTES IMPORTANTES \nLa séance du conseil municipal se déroulera en présentiel\, à 19h00\, au bâtiment du parc des Saphirs (175\, rue Kildare). Elle sera également simultanément Webdiffusée en direct. La séance demeurera ensuite disponible pour visionnement en différé sur la chaîne YouTube de la ville. \nLes citoyens voulant assister à la séance doivent respecter les mesures sanitaires suivantes : \n\nSe désinfecter les mains à l’arrivée dans le bâtiment\, à l’aide du gel hydroalcoolique mis à leur disposition;\nNe pas se présenter si l’on présente des symptômes de la COVID ou si on a été en contact avec un cas positif à la COVID.\n\nLa Ville peut exiger de toute personne qui ne respecte pas les mesures sanitaires ou les consignes\, avant ou pendant la séance\, de quitter immédiatement les lieux. \nLes citoyens désirant poser leur question à la mairesse ou aux élus peuvent le faire par le biais du formulaire de questions électronique. Les élus répondront aux questions qui auront été transmises avant 16 h\, la journée même de la séance. Les questions reçues après 16 h pourraient ne pas recevoir de réponse en séance. Par contre\, elles seront tout de même transmises aux élus après la séance du conseil municipal. \nDocuments de la séance : \n\nOrdre du jour projeté\n\n  \nÀ PROPOS DES SÉANCES DU CONSEIL MUNICIPAL \nLa séance du conseil municipal représente le principal lieu d’exercice de la démocratie municipale.\nNous invitons donc les citoyens à y participer activement : \n\nPour savoir ce qui se passe dans votre ville;\nPour avoir la bonne information et mieux comprendre les orientations;\nPour poser vos questions\, partager votre opinion et vos idées.\n\nLe conseil municipal est composé du maire et de six conseillers représentant chacun un district. De quel district êtes-vous et quel est votre conseiller attitré? \n  \nPOSEZ VOS QUESTIONS ET PARTAGEZ VOS PRÉOCCUPATIONS AU MAIRE ET AUX ÉLUS \nVoici les options s’offrant à vous : \n\nSi vous désirez que votre question soit lue et répondue lors du conseil municipal :\n\nVous devez soumettre votre question via le formulaire qui est mis en ligne à cet effet le vendredi précédant la séance. Consultez les dates des séances du conseil municipal.\n\n\nSi vous NE désirez PAS que votre question soit lue et répondue lors du conseil municipal. Sachez qu’il est toujours possible de contacter les conseillers municipaux ou le maire. Ainsi\, les citoyens désirant questionner les élus ou pour toute question ne nécessitant pas une réponse en séance du conseil\, sont invités :\n\nÀ écrire directement aux élus. Consultez les coordonnées des conseillers municipaux (téléphone et courriel);\nÀ communiquer avec la mairie à mairie@sbdl.net et qui assurera le suivi.\n\n\n\nÀ moins d’avis contraire relativement aux directives gouvernementales liées aux mesures sanitaires\, les séances ordinaires du conseil ont lieu à raison d’au minimum une fois par mois à 19h\, au bâtiment de services du Parc des Saphirs situé au 175\, rue Kildare\, à Sainte-Brigitte-de-Laval. \nNotez à votre agenda les dates des séances du conseil municipal.
URL:https://sbdl.net/evenement/seance-ordinaire-du-conseil-municipal-12/
LOCATION:Webdiffusion en direct via la chaîne Youtube de la Ville
ORGANIZER;CN="Ville de Sainte-Brigitte-de-Laval":MAILTO:mairie@sbdl.net
END:VEVENT
END:VCALENDAR