BEGIN:VCALENDAR
VERSION:2.0
PRODID:-//Sainte-Brigitte-de-Laval - ECPv6.15.20//NONSGML v1.0//EN
CALSCALE:GREGORIAN
METHOD:PUBLISH
X-ORIGINAL-URL:https://sbdl.net
X-WR-CALDESC:Événements pour Sainte-Brigitte-de-Laval
REFRESH-INTERVAL;VALUE=DURATION:PT1H
X-Robots-Tag:noindex
X-PUBLISHED-TTL:PT1H
BEGIN:VTIMEZONE
TZID:America/Toronto
BEGIN:DAYLIGHT
TZOFFSETFROM:-0500
TZOFFSETTO:-0400
TZNAME:EDT
DTSTART:20210314T070000
END:DAYLIGHT
BEGIN:STANDARD
TZOFFSETFROM:-0400
TZOFFSETTO:-0500
TZNAME:EST
DTSTART:20211107T060000
END:STANDARD
BEGIN:DAYLIGHT
TZOFFSETFROM:-0500
TZOFFSETTO:-0400
TZNAME:EDT
DTSTART:20220313T070000
END:DAYLIGHT
BEGIN:STANDARD
TZOFFSETFROM:-0400
TZOFFSETTO:-0500
TZNAME:EST
DTSTART:20221106T060000
END:STANDARD
BEGIN:DAYLIGHT
TZOFFSETFROM:-0500
TZOFFSETTO:-0400
TZNAME:EDT
DTSTART:20230312T070000
END:DAYLIGHT
BEGIN:STANDARD
TZOFFSETFROM:-0400
TZOFFSETTO:-0500
TZNAME:EST
DTSTART:20231105T060000
END:STANDARD
END:VTIMEZONE
BEGIN:VEVENT
DTSTART;TZID=America/Toronto:20221108T190000
DTEND;TZID=America/Toronto:20221108T200000
DTSTAMP:20260423T203829
CREATED:20220105T160738Z
LAST-MODIFIED:20221108T124850Z
UID:10785-1667934000-1667937600@sbdl.net
SUMMARY:Séance ordinaire du conseil municipal
DESCRIPTION:NOTES IMPORTANTES \n1- La séance du conseil municipal se déroulera en présentiel\, à 19h00\, au bâtiment du parc des Saphirs (175\, rue Kildare). Elle sera également simultanément Webdiffusée en direct. La séance demeurera ensuite disponible pour visionnement en différé sur la chaîne YouTube de la ville. \nLes citoyens voulant assister à la séance doivent respecter les mesures sanitaires suivantes : \n\nSe désinfecter les mains à l’arrivée dans le bâtiment\, à l’aide du gel hydroalcoolique mis à leur disposition;\nNe pas se présenter si l’on présente des symptômes de la COVID ou si on a été en contact avec un cas positif à la COVID.\n\nLa Ville peut exiger de toute personne qui ne respecte pas les mesures sanitaires ou les consignes\, avant ou pendant la séance\, de quitter immédiatement les lieux. \n2- Les citoyens désirant poser leur question à la mairesse ou aux élus peuvent le faire par le biais du formulaire de questions électronique prévu à cet effet et qui sera mis en ligne LE VENDREDI PRÉCÉDANT LA SÉANCE. Les élus répondront aux questions qui auront été transmises avant 16 h\, la journée même de la séance. Les questions reçues après 16 h pourraient ne pas recevoir de réponse en séance. Par contre\, elles seront tout de même transmises aux élus après la séance du conseil municipal. \nDocuments de la séance : \n\nOrdre du jour projeté\n\nÀ PROPOS DES SÉANCES DU CONSEIL MUNICIPAL \nLa séance du conseil municipal représente le principal lieu d’exercice de la démocratie municipale.\nNous invitons donc les citoyens à y participer activement : \n\nPour savoir ce qui se passe dans votre ville;\nPour avoir la bonne information et mieux comprendre les orientations;\nPour poser vos questions\, partager votre opinion et vos idées.\n\nLe conseil municipal est composé du maire et de six conseillers représentant chacun un district. De quel district êtes-vous et quel est votre conseiller attitré? \n  \nPOSEZ VOS QUESTIONS ET PARTAGEZ VOS PRÉOCCUPATIONS AU MAIRE ET AUX ÉLUS \nVoici les options s’offrant à vous : \n\nSi vous désirez que votre question soit lue et répondue lors du conseil municipal :\n\nVous devez soumettre votre question via le formulaire de questions électronique. Les élus répondront aux questions qui auront été transmises avant 16 h\, la journée même de la séance. Les questions reçues après 16 h pourraient ne pas recevoir de réponse en séance. Par contre\, elles seront tout de même transmises aux élus après la séance du conseil municipal.\n\n\nSi vous NE désirez PAS que votre question soit lue et répondue lors du conseil municipal. Sachez qu’il est toujours possible de contacter les conseillers municipaux ou le maire. Ainsi\, les citoyens désirant questionner les élus ou pour toute question ne nécessitant pas une réponse en séance du conseil\, sont invités :\n\nÀ écrire directement aux élus. Consultez les coordonnées des conseillers municipaux (téléphone et courriel);\nÀ communiquer avec la mairie à mairie@sbdl.net et qui assurera le suivi.\n\n\n\nÀ moins d’avis contraire relativement aux directives gouvernementales liées aux mesures sanitaires\, les séances ordinaires du conseil ont lieu à raison d’au minimum une fois par mois à 19h\, au bâtiment de services du Parc des Saphirs situé au 175\, rue Kildare\, à Sainte-Brigitte-de-Laval. \nNotez à votre agenda les dates des séances du conseil municipal.
URL:https://sbdl.net/evenement/seance-ordinaire-du-conseil-municipal-13/
LOCATION:Webdiffusion en direct via la chaîne Youtube de la Ville
ORGANIZER;CN="Ville de Sainte-Brigitte-de-Laval":MAILTO:mairie@sbdl.net
END:VEVENT
BEGIN:VEVENT
DTSTART;TZID=America/Toronto:20221129T190000
DTEND;TZID=America/Toronto:20221129T210000
DTSTAMP:20260423T203829
CREATED:20221125T134329Z
LAST-MODIFIED:20221125T134920Z
UID:11977-1669748400-1669755600@sbdl.net
SUMMARY:"Repensons la gestion de nos matières résiduelles" : Séance d'information publique avec CMQuébec
DESCRIPTION:La Communauté métropolitaine de Québec révise présentement son Plan métropolitain de gestion des matières résiduelles (PMGMR) pour la Rive-Nord de son territoire. Cette planification fixe les enjeux\, les orientations\, les objectifs à atteindre et les mesures à mettre en place afin de favoriser la réduction à la source\, le réemploi\, le recyclage\, la valorisation et l’élimination des matières résiduelles. \nQue vous soyez citoyen(ne)s ou que vous représentiez une organisation intéressée\, prononcez-vous sur cet enjeu important pour faire de notre région un exemple en gestion des matières résiduelles ! \nComment participer aux différentes activités de consultation et d’infornation et pour consulter la démarche de révision du Plan métropolitain de gestion des matières résiduelles\, visitez le site Web suivant : https://www.batirensemble.cmquebec.qc.ca/repensons-la-gestion-de-nos-matieres-residuelles \n\nPROCHAINES ÉTAPES :\nSéance d’information en ligne : 29 novembre 2022\, 19 h 00\nAssistez à notre séance d’information en ligne pour tout connaître de la révision du Plan métropolitain de gestion des matières résiduelles et de ses prochaines étapes. Ouverte à tous\, cette rencontre virtuelle vous permettra de mieux comprendre les enjeux en gestion des matières résiduelles sur le territoire\, de rencontrer l’équipe derrière la démarche et de poser vos questions : https://us02web.zoom.us/meeting/register/tZUrcu2grDIvGNOz0cOQe8SMyg83mP0Y5Ota \n\nAtelier d’échanges en ligne avec les institutions\, commerces et industries (ICI): 6 décembre 2022\, 9 h 30\nVous travaillez dans le milieu des organismes\, institutions\, commerces et industries ? Faites entendre votre voix lors de cet atelier d’échanges qui vous permettra d’influencer positivement la gestion des matières résiduelles au sein de votre milieu de travail.\nhttps://us02web.zoom.us/meeting/register/tZUqc–pqT8tGdVTjZmnTpQvK-TPf0A932JF\n \n\nAtelier d’échanges en ligne avec la construction\, rénovation et démolition (CRD) : 7 novembre 2022\, 13 h 00\nFaites entendre votre voix lors de cet atelier d’échanges qui vous permettra d’influencer positivement la gestion des matières résiduelles dans votre milieu de travail\, soit le secteur de la construction\, rénovation et démolition (CRD).\nhttps://us02web.zoom.us/meeting/register/tZYrde6urDsjGdaikp6Yv55S2SDSUrRrYDXE \n\nConsultez les étapes suivantes en suivant ce lien : https://www.batirensemble.cmquebec.qc.ca/repensons-la-gestion-de-nos-matieres-residuelles
URL:https://sbdl.net/evenement/seance-dinformation-publique-repensons-la-gestion-de-nos-matieres-residuelles/
LOCATION:Via la plateforme Zoom
END:VEVENT
END:VCALENDAR