BEGIN:VCALENDAR
VERSION:2.0
PRODID:-//Sainte-Brigitte-de-Laval - ECPv6.15.20//NONSGML v1.0//EN
CALSCALE:GREGORIAN
METHOD:PUBLISH
X-WR-CALNAME:Sainte-Brigitte-de-Laval
X-ORIGINAL-URL:https://sbdl.net
X-WR-CALDESC:Événements pour Sainte-Brigitte-de-Laval
REFRESH-INTERVAL;VALUE=DURATION:PT1H
X-Robots-Tag:noindex
X-PUBLISHED-TTL:PT1H
BEGIN:VTIMEZONE
TZID:America/Toronto
BEGIN:DAYLIGHT
TZOFFSETFROM:-0500
TZOFFSETTO:-0400
TZNAME:EDT
DTSTART:20220313T070000
END:DAYLIGHT
BEGIN:STANDARD
TZOFFSETFROM:-0400
TZOFFSETTO:-0500
TZNAME:EST
DTSTART:20221106T060000
END:STANDARD
BEGIN:DAYLIGHT
TZOFFSETFROM:-0500
TZOFFSETTO:-0400
TZNAME:EDT
DTSTART:20230312T070000
END:DAYLIGHT
BEGIN:STANDARD
TZOFFSETFROM:-0400
TZOFFSETTO:-0500
TZNAME:EST
DTSTART:20231105T060000
END:STANDARD
BEGIN:DAYLIGHT
TZOFFSETFROM:-0500
TZOFFSETTO:-0400
TZNAME:EDT
DTSTART:20240310T070000
END:DAYLIGHT
BEGIN:STANDARD
TZOFFSETFROM:-0400
TZOFFSETTO:-0500
TZNAME:EST
DTSTART:20241103T060000
END:STANDARD
END:VTIMEZONE
BEGIN:VEVENT
DTSTART;VALUE=DATE:20230508
DTEND;VALUE=DATE:20230819
DTSTAMP:20260423T085133
CREATED:20230301T201701Z
LAST-MODIFIED:20230301T201851Z
UID:12376-1683504000-1692403199@sbdl.net
SUMMARY:FOSSES SEPTIQUES | Vidanges des fosses du secteur SUD
DESCRIPTION:Consulter les adresses concernées du secteur « Sud » et quelle semaine est planifiée votre vidange\, le cas échéant : https://sbdl.net/environnement/installation-septique/
URL:https://sbdl.net/evenement/fosses-septiques-vidanges-des-fosses-du-secteur-sud/
ORGANIZER;CN="Service de l'am%C3%A9nagement du territoire":MAILTO:urbanisme@sbdl.net
END:VEVENT
BEGIN:VEVENT
DTSTART;VALUE=DATE:20230603
DTEND;VALUE=DATE:20230604
DTSTAMP:20260423T085133
CREATED:20230504T190508Z
LAST-MODIFIED:20230504T190807Z
UID:12779-1685750400-1685836799@sbdl.net
SUMMARY:Fête des voisins | Édition 2023
DESCRIPTION:Suivez la page de l’événement pour tous les détails
URL:https://sbdl.net/evenement/fete-des-voisins/
END:VEVENT
BEGIN:VEVENT
DTSTART;TZID=America/Toronto:20230603T093000
DTEND;TZID=America/Toronto:20230603T140000
DTSTAMP:20260423T085133
CREATED:20230518T213017Z
LAST-MODIFIED:20230518T213017Z
UID:13055-1685784600-1685800800@sbdl.net
SUMMARY:FÊTE DE LA PÊCHE | Portion 9 h 30 à 14 h
DESCRIPTION:Tous les détails en suivant ce lien : https://sbdl.net/fete-de-la-peche/ \n 
URL:https://sbdl.net/evenement/fete-de-la-peche-portion-9-h-30-a-14-h/
LOCATION:Parc Richelieu\, 386\, avenue Sainte-Brigitte
END:VEVENT
BEGIN:VEVENT
DTSTART;TZID=America/Toronto:20230603T100000
DTEND;TZID=America/Toronto:20230603T110000
DTSTAMP:20260423T085133
CREATED:20230516T182138Z
LAST-MODIFIED:20230516T182206Z
UID:13004-1685786400-1685790000@sbdl.net
SUMMARY:FÊTE DE LA PÊCHE | Formation « Pêche en herbe » pour les 6 à 12 ans (inscription obligatoire)
DESCRIPTION:Dans le cadre de cette activité très populaire\, les enfants de 6 à 12 ans sont invités à s’inscrire pour participer à une formation GRATUITE pour apprendre les rudiments de la pêche. \n\nHeures de la formation : 10 h 00 à 11 h 00\nChaque participant à la formation pêche en herbe recevra un certificat pêche en herbe qui fait office de permis de pêche valide jusqu’à ses 18 ans et un encart promotionnel offrant des rabais chez Canadian Tire\nOuverture des inscriptions : Le mardi 16 mai\, et ce jusqu’au 30 mai\, 16 h 00 (places limitées)\n\nInscription via votre compte Voilà! : https://sainte-brigitte-de-laval.appvoila.com/fr/\nL’inscription n’est pas possible sur l’application mobile\, vous devrez donc procéder via un ordinateur en suivant les indications suivantes :\n\nCliquez sur la pastille LOISIRS;\nEnsuite l’onglet ACTIVITÉS;\nPuis sélectionner S’INSCRIRE.\nSi vous avez des questions en cours de processus\, nous pourrons vous guider en nous contactant : au 418-825-2515\, poste 254 ou loisirs@sbdl.net.\n\n\n\n\n\nConsultez tous les détails de la journée de la Fête de la pêche du 3 juin 2023 en suivant ce lien : https://sbdl.net/fete-de-la-peche/ \nLes possibilités de stationnement\nPour les stationnements disponibles\, vous pourrez utiliser les emplacements suivants : \n\nMairie\nÉglise\nÉcole Trivent 1 et Trivent 2\nRue du Sablon\nPlace des Sables\nRue Saint-Jacques\nRue Saint-Paul\nRue Verret\nRue Dionne\n\n*notez que le stationnement dans les rues devra se faire uniquement du côté des numéros de porte pairs afin de laisser l’espace aux véhicules d’urgence de circuler en cas de besoin. \nLes endroits suivants seront prohibés pour le stationnement : \n\nRue Goudreault\nAvenue Sainte-Brigitte\nRue de la Fabrique\nRue du Couvent
URL:https://sbdl.net/evenement/fete-de-la-peche-formation-peche-en-herbe-pour-les-6-a-12-ans-inscription-obligatoire/
LOCATION:Parc Richelieu\, 386\, avenue Sainte-Brigitte
END:VEVENT
BEGIN:VEVENT
DTSTART;TZID=America/Toronto:20230613T190000
DTEND;TZID=America/Toronto:20230613T200000
DTSTAMP:20260423T085133
CREATED:20221205T201212Z
LAST-MODIFIED:20230615T161428Z
UID:12036-1686682800-1686686400@sbdl.net
SUMMARY:Séance ordinaire du conseil municipal
DESCRIPTION:La séance du conseil municipal se déroulera en présentiel\, à 19h00\, au bâtiment du parc des Saphirs (175\, rue Kildare). Elle sera également simultanément Webdiffusée en direct. La séance demeurera ensuite disponible pour visionnement en différé sur la chaîne YouTube de la ville. Les citoyens voulant assister à la séance doivent respecter les mesures sanitaires. La Ville peut exiger de quitter immédiatement les lieux à toute personne qui ne respecte pas les consignes sanitaires suivantes : \n\nSe désinfecter les mains à l’arrivée dans le bâtiment\, à l’aide du gel hydroalcoolique mis à leur disposition;\nNe pas se présenter si l’on présente des symptômes de la COVID ou si on a été en contact avec un cas positif à la COVID.\n\n\nDocument(s) de la séance\n\nODJ projeté 13 juin 2023\nRèglement 907-22 – Modifiant RMU\nRèglement 945-23 – Règlement sur les vidanges de fosses\n1er Projet_Règlement 946-23 Règlement modificant le Règlement de zonage 455-04\nProjet Règlement 919-22 – Règlement sur le programme particulier d’urbanisme (PPU) secteur rue des Matricaires\n\n\nPosez vos questions et partagez vos préoccupations\nà la mairesse et aux élus \nTous les citoyens sont libres de poser leurs questions selon les options suivantes : \nSi vous désirez que votre question soit lue et répondue lors du conseil municipal \n\nEn personne\, en mentionnant tout d’abord leur prénom et nom ainsi que leur adresse au micro;\nPar le biais du formulaire de questions électronique prévu à cet effet. Les élus répondront aux questions qui auront été transmises avant 16 h\, la journée même de la séance. Les questions reçues après 16 h pourraient ne pas recevoir de réponse en séance. Par contre\, elles seront tout de même transmises aux élus après la séance du conseil municipal.\n\nSi vous NE désirez PAS que votre question soit lue et répondue lors du conseil municipal\nSachez qu’il est toujours possible de contacter les conseillers municipaux ou le maire. Ainsi\, les citoyens désirant questionner les élus ou pour toute question ne nécessitant pas une réponse en séance du conseil\, sont invités : \n\nÀ écrire directement aux élus. Consultez les coordonnées des conseillers municipaux (téléphone et courriel);\nÀ communiquer avec la mairie à mairie@sbdl.net qui assurera le suivi.\n\n\nÀ propos des séances du conseil municipal \nLe conseil municipal est composé du maire et de six conseillers représentant chacun un district. De quel district êtes-vous et quel est votre conseiller attitré? \nLa séance du conseil municipal représente le principal lieu d’exercice de la démocratie municipale. Nous invitons donc les citoyens à y participer activement : \n\nPour savoir ce qui se passe dans votre ville;\nPour avoir la bonne information et mieux comprendre les orientations;\nPour poser vos questions\, partager votre opinion et vos idées.\n\nÀ moins d’avis contraire\, les séances ordinaires du conseil ont lieu à raison d’au minimum une fois par mois à 19h\, au bâtiment de services du Parc des Saphirs situé au 175\, rue Kildare\, à Sainte-Brigitte-de-Laval. Notez à votre agenda les dates des séances du conseil municipal.
URL:https://sbdl.net/evenement/seance-conseil-230613/
LOCATION:Bâtiment du Parc des Saphirs\, ou en direct et en différé sur la chaîne Youtube de la Ville\, 175\, rue Kildare\, Sainte-Brigitte-de-Laval\, Québec\, G0A3K0\, Canada
ORGANIZER;CN="Conseil municipal":MAILTO:mairie@sbdl.net
END:VEVENT
BEGIN:VEVENT
DTSTART;TZID=America/Toronto:20230623T110000
DTEND;TZID=America/Toronto:20230623T233000
DTSTAMP:20260423T085133
CREATED:20230504T201301Z
LAST-MODIFIED:20230620T181504Z
UID:12789-1687518000-1687563000@sbdl.net
SUMMARY:FÊTE NATIONALE
DESCRIPTION:La page officielle de la Fête nationale SBDL \nTélécharger la programmation des activités du 23 juin à Sainte-Brigitte-de-Laval \nL’horaire des groupes de la Scène Ouverte \n  \n 
URL:https://sbdl.net/evenement/fete-nationale-2023/
LOCATION:Parc de l’école du Trivent 1\, 3\, rue du Couvent
END:VEVENT
BEGIN:VEVENT
DTSTART;VALUE=DATE:20230626
DTEND;VALUE=DATE:20230812
DTSTAMP:20260423T085133
CREATED:20230227T162051Z
LAST-MODIFIED:20230227T162051Z
UID:12367-1687737600-1691798399@sbdl.net
SUMMARY:CAMP D'ÉTÉ « Les Z’Actifs » | Du 26 juin au 11 août 2023
DESCRIPTION:Tous les détails en suivant ce lien : https://sbdl.net/programmation-et-inscriptions/camps-dete/ \n \n 
URL:https://sbdl.net/evenement/camp-dete-les-zactifs-du-26-juin-au-11-aout-2023/
END:VEVENT
BEGIN:VEVENT
DTSTART;TZID=America/Toronto:20230628T100000
DTEND;TZID=America/Toronto:20230628T110000
DTSTAMP:20260423T085133
CREATED:20230615T134437Z
LAST-MODIFIED:20230615T142312Z
UID:13272-1687946400-1687950000@sbdl.net
SUMMARY:ANIMATION DE PARC (1 de 5) | Canaille le pirate
DESCRIPTION:Canaille le pirate\, c’est celui qui a tout vu\, tout vécu et qui sait qu’il n’y a rien de mieux que l’aventure et les chasses aux trésors. Avec une superbe touche d’humour pour toute la famille\, sa présence est idéale pour amuser et divertir tous les visiteurs qui prennent part à la fête. Partirez-vous avec lui à l’île du lac Goudreault pour braver les monstres des mers? \n\nLes animations de parc auront lieu lors de 5 matinées de l’été\, elles sont gratuites et pour toute la famille : \n\n28 juin : Canaille le pirate\n12 juillet : Clown Bibi\n19 juillet : L’homme orchestre\n2 août : Spectacle de bulles de savons\n9 août : Dom l’équilibriste
URL:https://sbdl.net/evenement/animation-de-parc-1-de-5-canaille-le-pirate/
LOCATION:Parc Richelieu\, 386\, avenue Sainte-Brigitte
CATEGORIES:Animation de parc
END:VEVENT
END:VCALENDAR