BEGIN:VCALENDAR
VERSION:2.0
PRODID:-//Sainte-Brigitte-de-Laval - ECPv6.15.18//NONSGML v1.0//EN
CALSCALE:GREGORIAN
METHOD:PUBLISH
X-ORIGINAL-URL:https://sbdl.net
X-WR-CALDESC:Événements pour Sainte-Brigitte-de-Laval
REFRESH-INTERVAL;VALUE=DURATION:PT1H
X-Robots-Tag:noindex
X-PUBLISHED-TTL:PT1H
BEGIN:VTIMEZONE
TZID:America/Toronto
BEGIN:DAYLIGHT
TZOFFSETFROM:-0500
TZOFFSETTO:-0400
TZNAME:EDT
DTSTART:20220313T070000
END:DAYLIGHT
BEGIN:STANDARD
TZOFFSETFROM:-0400
TZOFFSETTO:-0500
TZNAME:EST
DTSTART:20221106T060000
END:STANDARD
BEGIN:DAYLIGHT
TZOFFSETFROM:-0500
TZOFFSETTO:-0400
TZNAME:EDT
DTSTART:20230312T070000
END:DAYLIGHT
BEGIN:STANDARD
TZOFFSETFROM:-0400
TZOFFSETTO:-0500
TZNAME:EST
DTSTART:20231105T060000
END:STANDARD
BEGIN:DAYLIGHT
TZOFFSETFROM:-0500
TZOFFSETTO:-0400
TZNAME:EDT
DTSTART:20240310T070000
END:DAYLIGHT
BEGIN:STANDARD
TZOFFSETFROM:-0400
TZOFFSETTO:-0500
TZNAME:EST
DTSTART:20241103T060000
END:STANDARD
END:VTIMEZONE
BEGIN:VEVENT
DTSTART;VALUE=DATE:20230508
DTEND;VALUE=DATE:20230819
DTSTAMP:20260423T053214
CREATED:20230301T201701Z
LAST-MODIFIED:20230301T201851Z
UID:12376-1683504000-1692403199@sbdl.net
SUMMARY:FOSSES SEPTIQUES | Vidanges des fosses du secteur SUD
DESCRIPTION:Consulter les adresses concernées du secteur « Sud » et quelle semaine est planifiée votre vidange\, le cas échéant : https://sbdl.net/environnement/installation-septique/
URL:https://sbdl.net/evenement/fosses-septiques-vidanges-des-fosses-du-secteur-sud/
ORGANIZER;CN="Service de l'am%C3%A9nagement du territoire":MAILTO:urbanisme@sbdl.net
END:VEVENT
BEGIN:VEVENT
DTSTART;VALUE=DATE:20230626
DTEND;VALUE=DATE:20230812
DTSTAMP:20260423T053214
CREATED:20230227T162051Z
LAST-MODIFIED:20230227T162051Z
UID:12367-1687737600-1691798399@sbdl.net
SUMMARY:CAMP D'ÉTÉ « Les Z’Actifs » | Du 26 juin au 11 août 2023
DESCRIPTION:Tous les détails en suivant ce lien : https://sbdl.net/programmation-et-inscriptions/camps-dete/ \n \n 
URL:https://sbdl.net/evenement/camp-dete-les-zactifs-du-26-juin-au-11-aout-2023/
END:VEVENT
BEGIN:VEVENT
DTSTART;VALUE=DATE:20230801
DTEND;VALUE=DATE:20230802
DTSTAMP:20260423T053214
CREATED:20230224T152624Z
LAST-MODIFIED:20230224T152624Z
UID:12358-1690848000-1690934399@sbdl.net
SUMMARY:TAXES MUNICIPALES 2023 | Versement 3 de 4 au plus tard le 1er août
DESCRIPTION:Créer mon accès au portail « Voilà! » en 3 étapes faciles : https://sbdl.net/taxation/ \nDates limites des versements : \n• 1er mars 2023\n• 1er mai 2023\n• 1er août 2023\n• 2 octobre 2023 \nÀ quoi sert le compte de taxes? \n✅ Cet apport de revenus procure à la Ville la majeure partie des fonds dont elle a besoin pour lui permettre de se développer\, se doter d’infrastructures et d’offrir des services à la population; \n✅ Il est principalement composé de la taxe foncière générale\, calculée en fonction de l’évaluation des propriétés\, et des tarifications pour les services d’aqueduc\, d’égouts et de gestion des matières résiduelles\, et ce\, conformément aux dispositions de la Loi sur la fiscalité municipale; \n✅ Les taux de taxation sont déterminés annuellement par le budget de fonctionnement de la Ville qui\, pour l’année 2023\, a été adopté par le conseil municipal le 20 décembre dernier\, lors de la séance extraordinaire du conseil municipal : https://www.youtube.com/watch?v=CttNY7mwFwE&t=1s; \n✅ Le compte de taxes municipal annuel se présente sous forme de quatre (4) versements répartis sur l’année et payables au plus tard le premier jour des mois de mars\, mai\, août et octobre et est envoyé aux propriétaires au début de l’année civile.
URL:https://sbdl.net/evenement/taxes-municipales-2023-versement-3-de-4-au-plus-tard-le-1er-aout/
ORGANIZER;CN="Service des finances":MAILTO:taxation@sbdl.net
END:VEVENT
BEGIN:VEVENT
DTSTART;TZID=America/Toronto:20230802T100000
DTEND;TZID=America/Toronto:20230802T110000
DTSTAMP:20260423T053214
CREATED:20230615T140408Z
LAST-MODIFIED:20230615T141114Z
UID:13288-1690970400-1690974000@sbdl.net
SUMMARY:ANIMATION DE PARC (4 de 5) | Spectacle de bulles de savons
DESCRIPTION:Professeure Brin d’humour est prête! Elle a parcouru le monde pour trouver la recette pour fabriquer une bulle géante assez grande pour y transporter un humain ! … et elle y est presque! Elle a besoin de vous pour poursuivre ces grandes expériences! \n\nLes animations de parc auront lieu lors de 5 matinées de l’été\, elles sont gratuites et pour toute la famille : \n\n28 juin : Canaille le pirate\n12 juillet : Clown Bibi\n19 juillet : L’homme orchestre\n2 août : Spectacle de bulles de savons\n9 août : Dom l’équilibriste
URL:https://sbdl.net/evenement/animation-de-parc-4-de-5-spectacle-de-bulles-de-savons/
LOCATION:Parc Françoise-Poitras\, 82\, rue des Érables
CATEGORIES:Animation de parc
END:VEVENT
BEGIN:VEVENT
DTSTART;TZID=America/Toronto:20230809T100000
DTEND;TZID=America/Toronto:20230809T110000
DTSTAMP:20260423T053214
CREATED:20230615T141027Z
LAST-MODIFIED:20230615T141628Z
UID:13295-1691575200-1691578800@sbdl.net
SUMMARY:ANIMATION DE PARC (5 de 5) | Dom l'équilibriste
DESCRIPTION:Venez à la rencontre de Dom qui vous offrira une superbe animation déambulatoire. Il vous épatera assurément avec toutes sortes de prouesses : jongleries avec quilles et balles\, balles contacts\, diabolo et équilibre sur monocycle et sur cube. Une activité à ne pas manquer! \n\nLes animations de parc auront lieu lors de 5 matinées de l’été\, elles sont gratuites et pour toute la famille : \n\n28 juin : Canaille le pirate\n12 juillet : Clown Bibi\n19 juillet : L’homme orchestre\n2 août : Spectacle de bulles de savons\n9 août : Dom l’équilibriste
URL:https://sbdl.net/evenement/animation-de-parc-5-de-5-dom-lequilibriste/
LOCATION:Parc des Saphirs\, 175\, rue Kildare\, Sainte-Brigitte-de-Laval\, G0A 3K0
CATEGORIES:Animation de parc
END:VEVENT
BEGIN:VEVENT
DTSTART;VALUE=DATE:20230815
DTEND;VALUE=DATE:20230907
DTSTAMP:20260423T053214
CREATED:20230814T160303Z
LAST-MODIFIED:20230814T160303Z
UID:13806-1692057600-1694044799@sbdl.net
SUMMARY:SPORTS ET LOISIRS « AUTOMNE 2023 » | Période d’inscription
DESCRIPTION:C’est dès 8 h 00 le mardi 15 août\, sur la page officielle des sports et loisirs de la Ville\, que la programmation pour l’automne sera mise en ligne et marquera\, par la même occasion\, le début de la période d’inscription. \n\n\nSortie de la programmation : Dès 8 h 00 le mardi 15 août\nPériode d’inscription : Du 15 août au 6 septembre\nDébut des activitiés : semaine du 10 septembre 2023\n\n\n\nSoyez prêts en 4 étapes faciles\nD’ici-là\, si ce n’est pas déjà fait\, nous vous invitons à prendre un peu d’avance afin d’être prêts à procéder à vos inscriptions à partir du mardi 15 août\, 8 h 00. Pour ce faire\, consultez la page officielle des activités de sports et loisirs de la Ville pour : \n\nVous assurer d’avoir un compte actif sur notre plateforme « Voilà! »;\nAjouter les membres de votre famille à votre compte;\nRectifier votre mot de passe oublié;\nSavoir comment faire pour procéder à vos inscriptions aux activités.\n\n\n\n\nDes activités gratuites pour les personnes à faible revenu\nEn partenariat avec le programme Accès Loisir\, de nombreuses activités de sports et loisirs pourront être gratuites pour les personnes à faible revenu. Une initiative afin de lutter contre la pauvreté et l’exclusion sociale et permettant aux organismes locaux partenaires d’avoir accès à l’inventaire de matériels sportif\, culturel et de plein air varié de la Centrale d’équipements d’Accès-Loisirs Québec. Tous les détails sur la page officielle des activités de sports et loisirs de la Ville.
URL:https://sbdl.net/evenement/sports-et-loisirs-automne-2023-periode-dinscription/
CATEGORIES:Programmations saisonnières sports et loisirs
END:VEVENT
BEGIN:VEVENT
DTSTART;TZID=America/Toronto:20230822T190000
DTEND;TZID=America/Toronto:20230822T200000
DTSTAMP:20260423T053214
CREATED:20221205T201510Z
LAST-MODIFIED:20230822T111759Z
UID:12038-1692730800-1692734400@sbdl.net
SUMMARY:Séance ordinaire du conseil municipal
DESCRIPTION:La séance du conseil municipal se déroulera en présentiel\, à 19h00\, au bâtiment du parc des Saphirs (175\, rue Kildare). Elle sera également simultanément Webdiffusée en direct. La séance demeurera ensuite disponible pour visionnement en différé sur la chaîne YouTube de la ville. Les citoyens voulant assister à la séance doivent respecter les mesures sanitaires. La Ville peut exiger de quitter immédiatement les lieux à toute personne qui ne respecte pas les consignes sanitaires suivantes : \n\nSe désinfecter les mains à l’arrivée dans le bâtiment\, à l’aide du gel hydroalcoolique mis à leur disposition;\nNe pas se présenter si l’on présente des symptômes de la COVID ou si on a été en contact avec un cas positif à la COVID.\n\n\nDocument(s) de la séance\n\nODJ Séance 22 août 2023\nRèglement 947-23 – Règlement sur le traitement des élus modifiant le Règl 853-19\nReglement_949-23_modifiant_le_reglement_851-19\nProjet de Règlement 951-23 – Modification tarification\nProjet de Règlement 948-23 – Règlement éthique et déontologie élus municipaux\, remplaçant et abrogeant le Règl 905-22\n\n\nPosez vos questions et partagez vos préoccupations\nà la mairesse et aux élus \nTous les citoyens sont libres de poser leurs questions selon les options suivantes : \nSi vous désirez que votre question soit lue et répondue lors du conseil municipal \n\nEn personne\, en mentionnant tout d’abord leur prénom et nom ainsi que leur adresse au micro;\nPar le biais du formulaire de questions électronique prévu à cet effet qui est mis en ligne dans l’événement même de la séance\, dans le calendrier du site web de la Ville et celui de la plateforme Voilà! Les élus répondront aux questions qui auront été transmises avant 16 h\, la journée même de la séance. Les questions reçues après 16 h pourraient ne pas recevoir de réponse en séance. Par contre\, elles seront tout de même transmises aux élus après la séance du conseil municipal.\n\nSi vous NE désirez PAS que votre question soit lue et répondue lors du conseil municipal\nSachez qu’il est toujours possible de contacter les conseillers municipaux ou le maire. Ainsi\, les citoyens désirant questionner les élus ou pour toute question ne nécessitant pas une réponse en séance du conseil\, sont invités : \n\nÀ écrire directement aux élus. Consultez les coordonnées des conseillers municipaux (téléphone et courriel);\nÀ communiquer avec la mairie à mairie@sbdl.net qui assurera le suivi.\n\n\nÀ propos des séances du conseil municipal \nLe conseil municipal est composé du maire et de six conseillers représentant chacun un district. De quel district êtes-vous et quel est votre conseiller attitré? \nLa séance du conseil municipal représente le principal lieu d’exercice de la démocratie municipale. Nous invitons donc les citoyens à y participer activement : \n\nPour savoir ce qui se passe dans votre ville;\nPour avoir la bonne information et mieux comprendre les orientations;\nPour poser vos questions\, partager votre opinion et vos idées.\n\nÀ moins d’avis contraire\, les séances ordinaires du conseil ont lieu à raison d’au minimum une fois par mois à 19h\, au bâtiment de services du Parc des Saphirs situé au 175\, rue Kildare\, à Sainte-Brigitte-de-Laval. Notez à votre agenda les dates des séances du conseil municipal.
URL:https://sbdl.net/evenement/seance-conseil-230822/
LOCATION:Bâtiment du Parc des Saphirs\, ou en direct et en différé sur la chaîne Youtube de la Ville\, 175\, rue Kildare\, Sainte-Brigitte-de-Laval\, Québec\, G0A3K0\, Canada
ORGANIZER;CN="Conseil municipal":MAILTO:mairie@sbdl.net
END:VEVENT
END:VCALENDAR